BEGIN:VCALENDAR
VERSION:2.0
PRODID:-//Ovella Negra Marina - ECPv6.15.20//NONSGML v1.0//EN
CALSCALE:GREGORIAN
METHOD:PUBLISH
X-WR-CALNAME:Ovella Negra Marina
X-ORIGINAL-URL:https://ovellanegramarina.com/ca/
X-WR-CALDESC:Esdeveniments per Ovella Negra Marina
REFRESH-INTERVAL;VALUE=DURATION:PT1H
X-Robots-Tag:noindex
X-PUBLISHED-TTL:PT1H
BEGIN:VTIMEZONE
TZID:Europe/Paris
BEGIN:DAYLIGHT
TZOFFSETFROM:+0100
TZOFFSETTO:+0200
TZNAME:CEST
DTSTART:20240331T010000
END:DAYLIGHT
BEGIN:STANDARD
TZOFFSETFROM:+0200
TZOFFSETTO:+0100
TZNAME:CET
DTSTART:20241027T010000
END:STANDARD
BEGIN:DAYLIGHT
TZOFFSETFROM:+0100
TZOFFSETTO:+0200
TZNAME:CEST
DTSTART:20250330T010000
END:DAYLIGHT
BEGIN:STANDARD
TZOFFSETFROM:+0200
TZOFFSETTO:+0100
TZNAME:CET
DTSTART:20251026T010000
END:STANDARD
BEGIN:DAYLIGHT
TZOFFSETFROM:+0100
TZOFFSETTO:+0200
TZNAME:CEST
DTSTART:20260329T010000
END:DAYLIGHT
BEGIN:STANDARD
TZOFFSETFROM:+0200
TZOFFSETTO:+0100
TZNAME:CET
DTSTART:20261025T010000
END:STANDARD
END:VTIMEZONE
BEGIN:VEVENT
DTSTART;TZID=Europe/Paris:20250206T213000
DTEND;TZID=Europe/Paris:20250206T233000
DTSTAMP:20260421T151525
CREATED:20250122T083919Z
LAST-MODIFIED:20250122T083919Z
UID:4455-1738877400-1738884600@ovellanegramarina.com
SUMMARY:VALENCIA x BARÇA (COPA DEL REY)
DESCRIPTION:L’emoció de la Copa del Rey a l’Ovella Negra! No et perdis el vibrant partit entre el València i el Barça. T’invitem a viure cada moment d’aquesta batalla futbolística en un ambient ple de passió. Uneix-te a nosaltres per a una experiència inoblidable!
URL:https://ovellanegramarina.com/ca/evento/valencia-x-barca-copa-del-rey/
LOCATION:Ovella Negra Marina\, Calle Zamora\, 78\, Barcelona\, Barcelona\, 08018\, Spain
CATEGORIES:Esdeveniments televisats esportius
ORGANIZER;CN="Grupo Oveja Negra":MAILTO:comunicacio@ovellanegra.com
END:VEVENT
END:VCALENDAR