BEGIN:VCALENDAR
VERSION:2.0
PRODID:-//Ovella Negra Marina - ECPv6.15.20//NONSGML v1.0//EN
CALSCALE:GREGORIAN
METHOD:PUBLISH
X-WR-CALNAME:Ovella Negra Marina
X-ORIGINAL-URL:https://ovellanegramarina.com/en/
X-WR-CALDESC:Events for Ovella Negra Marina
REFRESH-INTERVAL;VALUE=DURATION:PT1H
X-Robots-Tag:noindex
X-PUBLISHED-TTL:PT1H
BEGIN:VTIMEZONE
TZID:Europe/Paris
BEGIN:DAYLIGHT
TZOFFSETFROM:+0100
TZOFFSETTO:+0200
TZNAME:CEST
DTSTART:20240331T010000
END:DAYLIGHT
BEGIN:STANDARD
TZOFFSETFROM:+0200
TZOFFSETTO:+0100
TZNAME:CET
DTSTART:20241027T010000
END:STANDARD
BEGIN:DAYLIGHT
TZOFFSETFROM:+0100
TZOFFSETTO:+0200
TZNAME:CEST
DTSTART:20250330T010000
END:DAYLIGHT
BEGIN:STANDARD
TZOFFSETFROM:+0200
TZOFFSETTO:+0100
TZNAME:CET
DTSTART:20251026T010000
END:STANDARD
BEGIN:DAYLIGHT
TZOFFSETFROM:+0100
TZOFFSETTO:+0200
TZNAME:CEST
DTSTART:20260329T010000
END:DAYLIGHT
BEGIN:STANDARD
TZOFFSETFROM:+0200
TZOFFSETTO:+0100
TZNAME:CET
DTSTART:20261025T010000
END:STANDARD
BEGIN:DAYLIGHT
TZOFFSETFROM:+0100
TZOFFSETTO:+0200
TZNAME:CEST
DTSTART:20270328T010000
END:DAYLIGHT
BEGIN:STANDARD
TZOFFSETFROM:+0200
TZOFFSETTO:+0100
TZNAME:CET
DTSTART:20271031T010000
END:STANDARD
END:VTIMEZONE
BEGIN:VEVENT
DTSTART;TZID=Europe/Paris:20250209T210000
DTEND;TZID=Europe/Paris:20250209T230000
DTSTAMP:20260423T184627
CREATED:20250121T160843Z
LAST-MODIFIED:20250121T160843Z
UID:4442-1739134800-1739142000@ovellanegramarina.com
SUMMARY:SEVILLA x BARÇA (LEAGUE)
DESCRIPTION:The excitement of La Liga at Oveja Negra! Don’t miss the thrilling match between Sevilla and Barça. \nWe invite you to experience every moment of this football battle in an atmosphere full of passion. Join us for an unforgettable experience!
URL:https://ovellanegramarina.com/en/evento/sevilla-x-barca-league/
LOCATION:Ovella Negra Marina\, Calle Zamora\, 78\, Barcelona\, Barcelona\, 08018\, Spain
CATEGORIES:Televised sporting events
ORGANIZER;CN="Grupo Oveja Negra":MAILTO:comunicacio@ovellanegra.com
END:VEVENT
BEGIN:VEVENT
DTSTART;TZID=Europe/Paris:20250209T230000
DTEND;TZID=Europe/Paris:20250210T050000
DTSTAMP:20260423T184627
CREATED:20250121T161011Z
LAST-MODIFIED:20250121T161011Z
UID:4445-1739142000-1739163600@ovellanegramarina.com
SUMMARY:SUPER BOWL
DESCRIPTION:The excitement of SUPER BOWL at Oveja Negra! \nJoin us for an unforgettable experience!
URL:https://ovellanegramarina.com/en/evento/super-bowl/
LOCATION:Ovella Negra Marina\, Calle Zamora\, 78\, Barcelona\, Barcelona\, 08018\, Spain
CATEGORIES:Televised sporting events
ORGANIZER;CN="Grupo Oveja Negra":MAILTO:comunicacio@ovellanegra.com
END:VEVENT
BEGIN:VEVENT
DTSTART;TZID=Europe/Paris:20250211T210000
DTEND;TZID=Europe/Paris:20250211T230000
DTSTAMP:20260423T184627
CREATED:20250207T105116Z
LAST-MODIFIED:20250207T105116Z
UID:4561-1739307600-1739314800@ovellanegramarina.com
SUMMARY:MANCHESTER CITY VS REAL MADRID (CHAMPIONS)
DESCRIPTION:The excitement of La Champions at Oveja Negra! Don’t miss the thrilling match between Manchester City vs Real Madrid. We invite you to experience every moment of this football battle in an atmosphere full of passion. Join us for an unforgettable experience!
URL:https://ovellanegramarina.com/en/evento/manchester-city-vs-real-madrid-champions/
LOCATION:Ovella Negra Marina\, Calle Zamora\, 78\, Barcelona\, Barcelona\, 08018\, Spain
CATEGORIES:Televised sporting events
END:VEVENT
BEGIN:VEVENT
DTSTART;TZID=Europe/Paris:20250212T210000
DTEND;TZID=Europe/Paris:20250212T230000
DTSTAMP:20260423T184627
CREATED:20250210T130415Z
LAST-MODIFIED:20250210T131118Z
UID:4583-1739394000-1739401200@ovellanegramarina.com
SUMMARY:Feyenoord vs Milan (UEFA Champions League)
DESCRIPTION:The excitement of the UEFA Champions League at Oveja Negra! Don’t miss the thrilling match between Feyenoord and Milan Vallecano. We invite you to experience every moment of this football battle in a passion-filled atmosphere. Join us for an unforgettable experience!
URL:https://ovellanegramarina.com/en/evento/feyenoord-vs-milan-uefa-champions-league/
LOCATION:Ovella Negra Marina\, Calle Zamora\, 78\, Barcelona\, Barcelona\, 08018\, Spain
CATEGORIES:Televised sporting events
END:VEVENT
BEGIN:VEVENT
DTSTART;TZID=Europe/Paris:20250217T210000
DTEND;TZID=Europe/Paris:20250217T230000
DTSTAMP:20260423T184627
CREATED:20250207T105215Z
LAST-MODIFIED:20250207T105215Z
UID:4564-1739826000-1739833200@ovellanegramarina.com
SUMMARY:BARÇA VS RAYO VALLECANO (LIGA)
DESCRIPTION:The excitement of La Liga at Oveja Negra! Don’t miss the thrilling match between Barça vs Rayo Vallecano. We invite you to experience every moment of this football battle in an atmosphere full of passion. Join us for an unforgettable experience!
URL:https://ovellanegramarina.com/en/evento/barca-vs-rayo-vallecano-liga/
LOCATION:Ovella Negra Marina\, Calle Zamora\, 78\, Barcelona\, Barcelona\, 08018\, Spain
CATEGORIES:Televised sporting events
END:VEVENT
BEGIN:VEVENT
DTSTART;TZID=Europe/Paris:20250219T210000
DTEND;TZID=Europe/Paris:20250219T230000
DTSTAMP:20260423T184627
CREATED:20250207T105359Z
LAST-MODIFIED:20250207T105359Z
UID:4567-1739998800-1740006000@ovellanegramarina.com
SUMMARY:REAL MADRID VS MANCHESTER CITY (CHAMPIONS)
DESCRIPTION:The excitement of La Champions at Oveja Negra! Don’t miss the thrilling match between Real Madrid vs Manchester City. We invite you to experience every moment of this football battle in an atmosphere full of passion. Join us for an unforgettable experience!
URL:https://ovellanegramarina.com/en/evento/real-madrid-vs-manchester-city-champions-2/
LOCATION:Ovella Negra Marina\, Calle Zamora\, 78\, Barcelona\, Barcelona\, 08018\, Spain
CATEGORIES:Televised sporting events
END:VEVENT
BEGIN:VEVENT
DTSTART;TZID=Europe/Paris:20250222T210000
DTEND;TZID=Europe/Paris:20250222T230000
DTSTAMP:20260423T184627
CREATED:20250207T105505Z
LAST-MODIFIED:20250207T105505Z
UID:4570-1740258000-1740265200@ovellanegramarina.com
SUMMARY:LAS PALMAS VS BARÇA (LIGA)
DESCRIPTION:The excitement of La Liga at Oveja Negra! Don’t miss the thrilling match between Las Palmas vs Barça . We invite you to experience every moment of this football battle in an atmosphere full of passion. Join us for an unforgettable experience!
URL:https://ovellanegramarina.com/en/evento/las-palmas-vs-barca-liga/
LOCATION:Ovella Negra Marina\, Calle Zamora\, 78\, Barcelona\, Barcelona\, 08018\, Spain
CATEGORIES:Televised sporting events
END:VEVENT
BEGIN:VEVENT
DTSTART;TZID=Europe/Paris:20260212T210000
DTEND;TZID=Europe/Paris:20260212T210000
DTSTAMP:20260423T184627
CREATED:20250220T101941Z
LAST-MODIFIED:20260209T120231Z
UID:4610-1770930000-1770930000@ovellanegramarina.com
SUMMARY:ATLÉTICO MADRID VS BARÇA (COPA DEL REY)
DESCRIPTION:The excitement of the Copa del Rey at Oveja Negra! Don’t miss the thrilling match between ATLÉTICO MADRID VS BARÇA. We invite you to experience every moment of this football battle in a passionate atmosphere. Join us for an unforgettable experience!
URL:https://ovellanegramarina.com/en/evento/barca-vs-atletico-de-madrid-copa-del-rey/
LOCATION:Ovella Negra Marina\, Calle Zamora\, 78\, Barcelona\, Barcelona\, 08018\, Spain
CATEGORIES:Televised sporting events
END:VEVENT
END:VCALENDAR