BEGIN:VCALENDAR
VERSION:2.0
PRODID:-//Ovella Negra Marina - ECPv6.15.20//NONSGML v1.0//EN
CALSCALE:GREGORIAN
METHOD:PUBLISH
X-WR-CALNAME:Ovella Negra Marina
X-ORIGINAL-URL:https://ovellanegramarina.com/en/
X-WR-CALDESC:Events for Ovella Negra Marina
REFRESH-INTERVAL;VALUE=DURATION:PT1H
X-Robots-Tag:noindex
X-PUBLISHED-TTL:PT1H
BEGIN:VTIMEZONE
TZID:Europe/Paris
BEGIN:DAYLIGHT
TZOFFSETFROM:+0100
TZOFFSETTO:+0200
TZNAME:CEST
DTSTART:20250330T010000
END:DAYLIGHT
BEGIN:STANDARD
TZOFFSETFROM:+0200
TZOFFSETTO:+0100
TZNAME:CET
DTSTART:20251026T010000
END:STANDARD
BEGIN:DAYLIGHT
TZOFFSETFROM:+0100
TZOFFSETTO:+0200
TZNAME:CEST
DTSTART:20260329T010000
END:DAYLIGHT
BEGIN:STANDARD
TZOFFSETFROM:+0200
TZOFFSETTO:+0100
TZNAME:CET
DTSTART:20261025T010000
END:STANDARD
BEGIN:DAYLIGHT
TZOFFSETFROM:+0100
TZOFFSETTO:+0200
TZNAME:CEST
DTSTART:20270328T010000
END:DAYLIGHT
BEGIN:STANDARD
TZOFFSETFROM:+0200
TZOFFSETTO:+0100
TZNAME:CET
DTSTART:20271031T010000
END:STANDARD
END:VTIMEZONE
BEGIN:VEVENT
DTSTART;TZID=Europe/Paris:20260428T210000
DTEND;TZID=Europe/Paris:20260428T230000
DTSTAMP:20260423T110236
CREATED:20250422T132415Z
LAST-MODIFIED:20260420T103102Z
UID:4866-1777410000-1777417200@ovellanegramarina.com
SUMMARY:PSG VS BAYERN (CHAMPIONS)
DESCRIPTION:The excitement of The Champions at La Oveja Negra! Don’t miss the thrilling match between PSG VS BAYERN. We invite you to experience every moment of this football battle in a passionate atmosphere. Join us for an unforgettable experience!
URL:https://ovellanegramarina.com/en/evento/arsenal-vs-psg-champions/
LOCATION:Ovella Negra Marina\, Calle Zamora\, 78\, Barcelona\, Barcelona\, 08018\, Spain
CATEGORIES:Televised sporting events
END:VEVENT
BEGIN:VEVENT
DTSTART;TZID=Europe/Paris:20260429T210000
DTEND;TZID=Europe/Paris:20260429T230000
DTSTAMP:20260423T110236
CREATED:20251218T215320Z
LAST-MODIFIED:20260420T103256Z
UID:5614-1777496400-1777503600@ovellanegramarina.com
SUMMARY:ATLETICO VS ARSENAL (CHAMPIONS)
DESCRIPTION:The excitement of The Champions at La Oveja Negra! Don’t miss the thrilling match between ATLETICO VS ARSENAL. We invite you to experience every moment of this football battle in a passionate atmosphere. Join us for an unforgettable experience!
URL:https://ovellanegramarina.com/en/evento/barca-vs-fc-copenaghen-champions/
CATEGORIES:Televised sporting events
END:VEVENT
END:VCALENDAR