BEGIN:VCALENDAR
VERSION:2.0
PRODID:-//Ovella Negra Marina - ECPv6.15.20//NONSGML v1.0//EN
CALSCALE:GREGORIAN
METHOD:PUBLISH
X-WR-CALNAME:Ovella Negra Marina
X-ORIGINAL-URL:https://ovellanegramarina.com/en/
X-WR-CALDESC:Events for Ovella Negra Marina
REFRESH-INTERVAL;VALUE=DURATION:PT1H
X-Robots-Tag:noindex
X-PUBLISHED-TTL:PT1H
BEGIN:VTIMEZONE
TZID:Europe/Paris
BEGIN:DAYLIGHT
TZOFFSETFROM:+0100
TZOFFSETTO:+0200
TZNAME:CEST
DTSTART:20220327T010000
END:DAYLIGHT
BEGIN:STANDARD
TZOFFSETFROM:+0200
TZOFFSETTO:+0100
TZNAME:CET
DTSTART:20221030T010000
END:STANDARD
BEGIN:DAYLIGHT
TZOFFSETFROM:+0100
TZOFFSETTO:+0200
TZNAME:CEST
DTSTART:20230326T010000
END:DAYLIGHT
BEGIN:STANDARD
TZOFFSETFROM:+0200
TZOFFSETTO:+0100
TZNAME:CET
DTSTART:20231029T010000
END:STANDARD
BEGIN:DAYLIGHT
TZOFFSETFROM:+0100
TZOFFSETTO:+0200
TZNAME:CEST
DTSTART:20240331T010000
END:DAYLIGHT
BEGIN:STANDARD
TZOFFSETFROM:+0200
TZOFFSETTO:+0100
TZNAME:CET
DTSTART:20241027T010000
END:STANDARD
END:VTIMEZONE
BEGIN:VEVENT
DTSTART;TZID=Europe/Paris:20231213T210000
DTEND;TZID=Europe/Paris:20231213T233000
DTSTAMP:20260421T171510
CREATED:20231205T121715Z
LAST-MODIFIED:20231205T121715Z
UID:2844-1702501200-1702510200@ovellanegramarina.com
SUMMARY:ANTWERP VS BARÇA (CHAMPIONS)
DESCRIPTION:We are waiting for you at The Black Sheep to experience the excitement of the Champions League match between Antwerp and Barça . Enjoy a unique experience\, full of football passion in our cozy venue. Don’t miss it!
URL:https://ovellanegramarina.com/en/evento/antwerp-vs-barca-champions/
LOCATION:Barcelona
CATEGORIES:Televised sporting events
END:VEVENT
BEGIN:VEVENT
DTSTART;TZID=Europe/Paris:20231210T210000
DTEND;TZID=Europe/Paris:20231210T233000
DTSTAMP:20260421T171510
CREATED:20231205T114751Z
LAST-MODIFIED:20231205T120718Z
UID:2831-1702242000-1702251000@ovellanegramarina.com
SUMMARY:BARÇA VS GIRONA (LEAGUE)
DESCRIPTION:The excitement of the League continues in Oveja Negra! Don’t miss the vibrant match between Barça and Girona. We invite you to live every moment of this football battle.
URL:https://ovellanegramarina.com/en/evento/barca-vs-girona-league/
LOCATION:Ovella Negra Marina\, Calle Zamora\, 78\, Barcelona\, Barcelona\, 08018\, Spain
CATEGORIES:Televised sporting events
END:VEVENT
BEGIN:VEVENT
DTSTART;TZID=Europe/Paris:20231107T184500
DTEND;TZID=Europe/Paris:20231107T210000
DTSTAMP:20260421T171510
CREATED:20231018T100303Z
LAST-MODIFIED:20231024T083455Z
UID:2112-1699382700-1699390800@ovellanegramarina.com
SUMMARY:BARÇA VS SHAKTAR (CHAMPIONS)
DESCRIPTION:We are waiting for you at Black Sheep to experience the excitement of the Champions League match between Barça and Shaktar. Enjoy a unique experience\, full of football passion in our cozy venue. Don’t miss it\, we open at 6:30 p.m.!
URL:https://ovellanegramarina.com/en/evento/barca-vs-shaktar-champions-2/
LOCATION:Ovella Negra Marina\, Calle Zamora\, 78\, Barcelona\, Barcelona\, 08018\, Spain
CATEGORIES:Televised sporting events
ORGANIZER;CN="Grupo Oveja Negra":MAILTO:comunicacio@ovellanegra.com
END:VEVENT
BEGIN:VEVENT
DTSTART;TZID=Europe/Paris:20231104T210000
DTEND;TZID=Europe/Paris:20231104T230000
DTSTAMP:20260421T171510
CREATED:20230912T062404Z
LAST-MODIFIED:20231024T083640Z
UID:2125-1699131600-1699138800@ovellanegramarina.com
SUMMARY:BARÇA VS REAL SOCIEDAD (LIGA)
DESCRIPTION:The excitement of the League continues in The Black Sheep! Don’t miss the vibrant match between Barça and Real Sociedad. We invite you to live every moment of this football battle in an atmosphere full of passion. Join us for an unforgettable experience!
URL:https://ovellanegramarina.com/en/evento/barca-vs-real-sociedad-liga/
LOCATION:Ovella Negra Marina\, Calle Zamora\, 78\, Barcelona\, Barcelona\, 08018\, Spain
CATEGORIES:Televised sporting events
ORGANIZER;CN="Grupo Oveja Negra":MAILTO:comunicacio@ovellanegra.com
END:VEVENT
BEGIN:VEVENT
DTSTART;TZID=Europe/Paris:20231028T161500
DTEND;TZID=Europe/Paris:20231028T183000
DTSTAMP:20260421T171510
CREATED:20230912T062623Z
LAST-MODIFIED:20231024T083900Z
UID:2139-1698509700-1698517800@ovellanegramarina.com
SUMMARY:BARÇA VS REAL MADRID  (LIGA)
DESCRIPTION:The excitement of the great Classic comes to The Black Sheep! Don’t miss the exciting confrontation between Real Madrid and Barça. We invite you to live every moment of this football duel in an environment full of passion and camaraderie. Join us for an unforgettable experience!
URL:https://ovellanegramarina.com/en/evento/barca-vs-real-madrid-liga/
LOCATION:Ovella Negra Marina\, Calle Zamora\, 78\, Barcelona\, Barcelona\, 08018\, Spain
CATEGORIES:Televised sporting events
END:VEVENT
BEGIN:VEVENT
DTSTART;TZID=Europe/Paris:20231025T184500
DTEND;TZID=Europe/Paris:20231025T210000
DTSTAMP:20260421T171510
CREATED:20230627T174428Z
LAST-MODIFIED:20231024T083941Z
UID:2146-1698259500-1698267600@ovellanegramarina.com
SUMMARY:BARÇA VS SHAKTAR  (CHAMPIONS)
DESCRIPTION:We are waiting for you at The Black Sheep to experience the excitement of the Champions League match between Barça and Shaktar. Enjoy a unique experience\, full of football passion in our cozy venue. Don’t miss it\, we open at 6:30 p.m.!
URL:https://ovellanegramarina.com/en/evento/barca-vs-shaktar-champions/
LOCATION:Ovella Negra Marina\, Calle Zamora\, 78\, Barcelona\, Barcelona\, 08018\, Spain
CATEGORIES:Televised sporting events
ORGANIZER;CN="Grupo Oveja Negra":MAILTO:comunicacio@ovellanegra.com
END:VEVENT
BEGIN:VEVENT
DTSTART;TZID=Europe/Paris:20231022T210000
DTEND;TZID=Europe/Paris:20231022T230000
DTSTAMP:20260421T171510
CREATED:20231018T095835Z
LAST-MODIFIED:20231024T083400Z
UID:2156-1698008400-1698015600@ovellanegramarina.com
SUMMARY:BARÇA VS ATHLETIC CLUB (LIGA)
DESCRIPTION:Don’t miss the exciting confrontation between Barça and Athletic Club in the League! We invite you to join us at The Black Sheep\, where excitement and good company are guaranteed. Come and support your favorite team in an environment full of football passion!
URL:https://ovellanegramarina.com/en/evento/barca-vs-athletic-club-liga/
LOCATION:Ovella Negra Marina\, Calle Zamora\, 78\, Barcelona\, Barcelona\, 08018\, Spain
CATEGORIES:Televised sporting events
ORGANIZER;CN="Grupo Oveja Negra":MAILTO:comunicacio@ovellanegra.com
END:VEVENT
END:VCALENDAR