BEGIN:VCALENDAR
VERSION:2.0
PRODID:-//Ovella Negra Marina - ECPv6.15.20//NONSGML v1.0//EN
CALSCALE:GREGORIAN
METHOD:PUBLISH
X-WR-CALNAME:Ovella Negra Marina
X-ORIGINAL-URL:https://ovellanegramarina.com/en/
X-WR-CALDESC:Events for Ovella Negra Marina
REFRESH-INTERVAL;VALUE=DURATION:PT1H
X-Robots-Tag:noindex
X-PUBLISHED-TTL:PT1H
BEGIN:VTIMEZONE
TZID:Europe/Paris
BEGIN:DAYLIGHT
TZOFFSETFROM:+0100
TZOFFSETTO:+0200
TZNAME:CEST
DTSTART:20230326T010000
END:DAYLIGHT
BEGIN:STANDARD
TZOFFSETFROM:+0200
TZOFFSETTO:+0100
TZNAME:CET
DTSTART:20231029T010000
END:STANDARD
BEGIN:DAYLIGHT
TZOFFSETFROM:+0100
TZOFFSETTO:+0200
TZNAME:CEST
DTSTART:20240331T010000
END:DAYLIGHT
BEGIN:STANDARD
TZOFFSETFROM:+0200
TZOFFSETTO:+0100
TZNAME:CET
DTSTART:20241027T010000
END:STANDARD
BEGIN:DAYLIGHT
TZOFFSETFROM:+0100
TZOFFSETTO:+0200
TZNAME:CEST
DTSTART:20250330T010000
END:DAYLIGHT
BEGIN:STANDARD
TZOFFSETFROM:+0200
TZOFFSETTO:+0100
TZNAME:CET
DTSTART:20251026T010000
END:STANDARD
BEGIN:DAYLIGHT
TZOFFSETFROM:+0100
TZOFFSETTO:+0200
TZNAME:CEST
DTSTART:20260329T010000
END:DAYLIGHT
BEGIN:STANDARD
TZOFFSETFROM:+0200
TZOFFSETTO:+0100
TZNAME:CET
DTSTART:20261025T010000
END:STANDARD
END:VTIMEZONE
BEGIN:VEVENT
DTSTART;TZID=Europe/Paris:20250121T210000
DTEND;TZID=Europe/Paris:20250121T230000
DTSTAMP:20260421T205855
CREATED:20250113T114034Z
LAST-MODIFIED:20250113T114034Z
UID:4403-1737493200-1737500400@ovellanegramarina.com
SUMMARY:BENFICA VS BARÇA (CHAMPIONS)
DESCRIPTION:The excitement of the Champions League at Oveja Negra! Don’t miss the thrilling match between Benfica and Barça. \n We invite you to experience every moment of this football battle in an atmosphere full of passion. Join us for an unforgettable experience!
URL:https://ovellanegramarina.com/en/evento/benfica-vs-barca-champions/
LOCATION:Ovella Negra Marina\, Calle Zamora\, 78\, Barcelona\, Barcelona\, 08018\, Spain
CATEGORIES:Televised sporting events
END:VEVENT
BEGIN:VEVENT
DTSTART;TZID=Europe/Paris:20250118T210000
DTEND;TZID=Europe/Paris:20250118T230000
DTSTAMP:20260421T205855
CREATED:20250110T121210Z
LAST-MODIFIED:20250110T121210Z
UID:4404-1737234000-1737241200@ovellanegramarina.com
SUMMARY:GETAFE x BARÇA (LIGA)
DESCRIPTION:The excitement of the League continues in Oveja Negra! Don’t miss the thrilling match between Getafe and Barça. We invite you to experience every moment of this football battle in an atmosphere full of passion. Join us for an unforgettable experience!
URL:https://ovellanegramarina.com/en/evento/getafe-x-barca-liga/
LOCATION:Ovella Negra Marina\, Calle Zamora\, 78\, Barcelona\, Barcelona\, 08018\, Spain
CATEGORIES:Televised sporting events
END:VEVENT
BEGIN:VEVENT
DTSTART;TZID=Europe/Paris:20250115T210000
DTEND;TZID=Europe/Paris:20250115T230000
DTSTAMP:20260421T205855
CREATED:20250422T132210Z
LAST-MODIFIED:20260113T170723Z
UID:4863-1736974800-1736982000@ovellanegramarina.com
SUMMARY:RACING SANTANDER VS BARÇA (COPA DEL REY)
DESCRIPTION:The excitement of La Copa del Rey at La Oveja Negra! Don’t miss the thrilling match between  RACING SANTANDER VS BARÇA. We invite you to experience every moment of this football battle in a passionate atmosphere. Join us for an unforgettable experience!
URL:https://ovellanegramarina.com/en/evento/real-madrid-vs-barca-final-copa-del-rey/
LOCATION:Ovella Negra Marina\, Calle Zamora\, 78\, Barcelona\, Barcelona\, 08018\, Spain
CATEGORIES:Televised sporting events
END:VEVENT
BEGIN:VEVENT
DTSTART;TZID=Europe/Paris:20250115T210000
DTEND;TZID=Europe/Paris:20250115T230000
DTSTAMP:20260421T205855
CREATED:20250110T121034Z
LAST-MODIFIED:20250110T121034Z
UID:4405-1736974800-1736982000@ovellanegramarina.com
SUMMARY:BARÇA x BETIS (COPA DEL REY)
DESCRIPTION:The excitement of the Copa del Rey at Oveja Negra! Don’t miss the thrilling match between Barça and Betis. We invite you to experience every moment of this football battle in an atmosphere full of passion. Join us for an unforgettable experience!
URL:https://ovellanegramarina.com/en/evento/barca-x-betis-copa-del-rey/
LOCATION:Ovella Negra Marina\, Calle Zamora\, 78\, Barcelona\, Barcelona\, 08018\, Spain
CATEGORIES:Televised sporting events
END:VEVENT
BEGIN:VEVENT
DTSTART;TZID=Europe/Paris:20250112T100000
DTEND;TZID=Europe/Paris:20250112T170000
DTSTAMP:20260421T205855
CREATED:20241231T113957Z
LAST-MODIFIED:20241231T113957Z
UID:4351-1736676000-1736701200@ovellanegramarina.com
SUMMARY:FLEA MARKET EVERYTHING TO €1
DESCRIPTION:Everything to €1 is back! The cheapest market in Barcelona!\nOver 65 vendors filled with treasures.\nSecond-hand and Vintage.
URL:https://ovellanegramarina.com/en/evento/flea-market-everything-to-e1-4/
LOCATION:Ovella Negra Marina\, Calle Zamora\, 78\, Barcelona\, Barcelona\, 08018\, Spain
CATEGORIES:Televised sporting events
ORGANIZER;CN="Two Market":MAILTO:hello@marketsbarcelona.com
END:VEVENT
BEGIN:VEVENT
DTSTART;TZID=Europe/Paris:20241211T210000
DTEND;TZID=Europe/Paris:20241211T230000
DTSTAMP:20260421T205855
CREATED:20241114T093523Z
LAST-MODIFIED:20241114T093523Z
UID:4276-1733950800-1733958000@ovellanegramarina.com
SUMMARY:BORUSSIA DORTMUND x BARÇA (CHAMPIONS)
DESCRIPTION:We are waiting for you at Black Sheep to experience the excitement of the Champions League match between BORUSSIA DORTMUND x BARÇA. Enjoy a unique experience\, full of football passion in our cozy venue.
URL:https://ovellanegramarina.com/en/evento/borussia-dortmund-x-barca-champions/
LOCATION:Ovella Negra Marina\, Calle Zamora\, 78\, Barcelona\, Barcelona\, 08018\, Spain
CATEGORIES:Televised sporting events
ORGANIZER;CN="Grupo Oveja Negra":MAILTO:comunicacio@ovellanegra.com
END:VEVENT
BEGIN:VEVENT
DTSTART;TZID=Europe/Paris:20241210T210000
DTEND;TZID=Europe/Paris:20241210T230000
DTSTAMP:20260421T205855
CREATED:20241114T093352Z
LAST-MODIFIED:20241114T093352Z
UID:4273-1733864400-1733871600@ovellanegramarina.com
SUMMARY:ATALANTA x REAL MADRID (CHAMPIONS)
DESCRIPTION:We are waiting for you at Black Sheep to experience the excitement of the Champions League match between Atalanta x Real Madrid. Enjoy a unique experience\, full of football passion in our cozy venue.
URL:https://ovellanegramarina.com/en/evento/atalanta-x-real-madrid-champions/
LOCATION:Ovella Negra Marina\, Calle Zamora\, 78\, Barcelona\, Barcelona\, 08018\, Spain
CATEGORIES:Televised sporting events
ORGANIZER;CN="Grupo Oveja Negra":MAILTO:comunicacio@ovellanegra.com
END:VEVENT
BEGIN:VEVENT
DTSTART;TZID=Europe/Paris:20241127T210000
DTEND;TZID=Europe/Paris:20241127T230000
DTSTAMP:20260421T205855
CREATED:20241030T175702Z
LAST-MODIFIED:20241030T175702Z
UID:4206-1732741200-1732748400@ovellanegramarina.com
SUMMARY:LIVERPOOL x REAL MADRID (CHAMPIONS)
DESCRIPTION:We are waiting for you at Black Sheep to experience the excitement of the Champions League match between LIVERPOOL x REAL MADRID. Enjoy a unique experience\, full of football passion in our cozy venue.
URL:https://ovellanegramarina.com/en/evento/liverpool-x-real-madrid-champions/
LOCATION:Ovella Negra Marina\, Calle Zamora\, 78\, Barcelona\, Barcelona\, 08018\, Spain
CATEGORIES:Televised sporting events
ORGANIZER;CN="Grupo Oveja Negra":MAILTO:comunicacio@ovellanegra.com
END:VEVENT
BEGIN:VEVENT
DTSTART;TZID=Europe/Paris:20241126T210000
DTEND;TZID=Europe/Paris:20241126T230000
DTSTAMP:20260421T205855
CREATED:20241030T175524Z
LAST-MODIFIED:20241030T175524Z
UID:4203-1732654800-1732662000@ovellanegramarina.com
SUMMARY:BARÇA x BREST (CHAMPIONS)
DESCRIPTION:We are waiting for you at Black Sheep to experience the excitement of the Champions League match between BARÇA x BREST. Enjoy a unique experience\, full of football passion in our cozy venue.
URL:https://ovellanegramarina.com/en/evento/barca-x-brest-champions/
LOCATION:Ovella Negra Marina\, Calle Zamora\, 78\, Barcelona\, Barcelona\, 08018\, Spain
CATEGORIES:Televised sporting events
ORGANIZER;CN="Grupo Oveja Negra":MAILTO:comunicacio@ovellanegra.com
END:VEVENT
BEGIN:VEVENT
DTSTART;TZID=Europe/Paris:20241123T210000
DTEND;TZID=Europe/Paris:20241123T230000
DTSTAMP:20260421T205855
CREATED:20241030T175103Z
LAST-MODIFIED:20241030T175104Z
UID:4200-1732395600-1732402800@ovellanegramarina.com
SUMMARY:CELTA VIGO x BARÇA (LEAGUE)
DESCRIPTION:The excitement of the League continues in The Black Sheep! Don’t miss the vibrant match between Celta Vigo and Barça. We invite you to live every moment of this football battle in an atmosphere full of passion. Join us for an unforgettable experience!
URL:https://ovellanegramarina.com/en/evento/celta-vigo-x-barca-league-2/
LOCATION:Ovella Negra Marina\, Calle Zamora\, 78\, Barcelona\, Barcelona\, 08018\, Spain
CATEGORIES:Televised sporting events
ORGANIZER;CN="Grupo Oveja Negra":MAILTO:comunicacio@ovellanegra.com
END:VEVENT
BEGIN:VEVENT
DTSTART;TZID=Europe/Paris:20241110T210000
DTEND;TZID=Europe/Paris:20241110T230000
DTSTAMP:20260421T205855
CREATED:20241030T173213Z
LAST-MODIFIED:20241030T173213Z
UID:4186-1731272400-1731279600@ovellanegramarina.com
SUMMARY:REAL SOCIEDAD x BARÇA (LEAGUE)
DESCRIPTION:The excitement of the League continues in The Black Sheep! Don’t miss the vibrant match between Real Sociedad vs Barça. We invite you to live every moment of this football battle in an atmosphere full of passion. Join us for an unforgettable experience!
URL:https://ovellanegramarina.com/en/evento/real-sociedad-x-barca-league/
LOCATION:Ovella Negra Marina\, Calle Zamora\, 78\, Barcelona\, Barcelona\, 08018\, Spain
CATEGORIES:Televised sporting events
ORGANIZER;CN="Grupo Oveja Negra":MAILTO:comunicacio@ovellanegra.com
END:VEVENT
BEGIN:VEVENT
DTSTART;TZID=Europe/Paris:20241106T210000
DTEND;TZID=Europe/Paris:20241106T230000
DTSTAMP:20260421T205855
CREATED:20241024T121015Z
LAST-MODIFIED:20241030T174149Z
UID:4068-1730926800-1730934000@ovellanegramarina.com
SUMMARY:ESTRELLA ROJA x BARÇA (CHAMPIONS)
DESCRIPTION:We are waiting for you at Black Sheep to experience the excitement of the Champions League match between ESTRELLA ROJA x BARÇA. Enjoy a unique experience\, full of football passion in our cozy venue.
URL:https://ovellanegramarina.com/en/evento/estrella-roja-x-barca/
LOCATION:Ovella Negra Marina\, Calle Zamora\, 78\, Barcelona\, Barcelona\, 08018\, Spain
CATEGORIES:Televised sporting events
ORGANIZER;CN="Grupo Oveja Negra":MAILTO:comunicacio@ovellanegra.com
END:VEVENT
BEGIN:VEVENT
DTSTART;TZID=Europe/Paris:20241105T210000
DTEND;TZID=Europe/Paris:20241105T230000
DTSTAMP:20260421T205855
CREATED:20241024T120724Z
LAST-MODIFIED:20241030T174303Z
UID:4065-1730840400-1730847600@ovellanegramarina.com
SUMMARY:REAL MADRID x MILAN (CHAMPIONS)
DESCRIPTION:We are waiting for you at Black Sheep to experience the excitement of the Champions League match between REAL MADRID x MILAN. Enjoy a unique experience\, full of football passion in our cozy venue.
URL:https://ovellanegramarina.com/en/evento/real-madrid-x-milan-champions/
LOCATION:Ovella Negra Marina\, Calle Zamora\, 78\, Barcelona\, Barcelona\, 08018\, Spain
CATEGORIES:Televised sporting events
ORGANIZER;CN="Grupo Oveja Negra":MAILTO:comunicacio@ovellanegra.com
END:VEVENT
BEGIN:VEVENT
DTSTART;TZID=Europe/Paris:20241026T210000
DTEND;TZID=Europe/Paris:20241026T230000
DTSTAMP:20260421T205855
CREATED:20241020T080032Z
LAST-MODIFIED:20241020T080124Z
UID:4031-1729976400-1729983600@ovellanegramarina.com
SUMMARY:REAL MADRID x BARÇA (LEAGUE)
DESCRIPTION:The excitement of the League continues in The Black Sheep! Don’t miss the vibrant match between Real Madrid vs Barça. We invite you to live every moment of this football battle in an atmosphere full of passion. Join us for an unforgettable experience!
URL:https://ovellanegramarina.com/en/evento/real-madrid-x-barca-league/
LOCATION:Ovella Negra Marina\, Calle Zamora\, 78\, Barcelona\, Barcelona\, 08018\, Spain
CATEGORIES:Televised sporting events
ORGANIZER;CN="Grupo Oveja Negra":MAILTO:comunicacio@ovellanegra.com
END:VEVENT
BEGIN:VEVENT
DTSTART;TZID=Europe/Paris:20241023T210000
DTEND;TZID=Europe/Paris:20241023T230000
DTSTAMP:20260421T205855
CREATED:20241020T075759Z
LAST-MODIFIED:20241020T075759Z
UID:4027-1729717200-1729724400@ovellanegramarina.com
SUMMARY:BARÇA x BAYERN MUNICH (CHAMPIONS LEAGUE)
DESCRIPTION:The excitement of the League continues in The Black Sheep! Don’t miss the vibrant match between Barça vs Bayern Munich. We invite you to live every moment of this football battle in an atmosphere full of passion. Join us for an unforgettable experience!
URL:https://ovellanegramarina.com/en/evento/barca-x-bayern-munich-champions-league/
LOCATION:Ovella Negra Marina\, Calle Zamora\, 78\, Barcelona\, Barcelona\, 08018\, Spain
CATEGORIES:Televised sporting events
ORGANIZER;CN="Grupo Oveja Negra":MAILTO:comunicacio@ovellanegra.com
END:VEVENT
BEGIN:VEVENT
DTSTART;TZID=Europe/Paris:20241022T210000
DTEND;TZID=Europe/Paris:20241022T230000
DTSTAMP:20260421T205855
CREATED:20241020T075507Z
LAST-MODIFIED:20241020T075507Z
UID:4024-1729630800-1729638000@ovellanegramarina.com
SUMMARY:REAL MADRID x BORUSSIA DORTMUND (CHAMPIONS LEAGUE)
DESCRIPTION:The excitement of the League continues in The Black Sheep! Don’t miss the vibrant match between Real Madrid vs Borussia Dortmund. We invite you to live every moment of this football battle in an atmosphere full of passion. Join us for an unforgettable experience!
URL:https://ovellanegramarina.com/en/evento/real-madrid-x-borussia-dortmund-champions-league/
LOCATION:Ovella Negra Marina\, Calle Zamora\, 78\, Barcelona\, Barcelona\, 08018\, Spain
CATEGORIES:Televised sporting events
ORGANIZER;CN="Grupo Oveja Negra":MAILTO:comunicacio@ovellanegra.com
END:VEVENT
BEGIN:VEVENT
DTSTART;TZID=Europe/Paris:20241020T210000
DTEND;TZID=Europe/Paris:20241020T230000
DTSTAMP:20260421T205855
CREATED:20241020T074930Z
LAST-MODIFIED:20241020T074930Z
UID:4020-1729458000-1729465200@ovellanegramarina.com
SUMMARY:BARÇA x SEVILLA (LEAGUE)
DESCRIPTION:The excitement of the League continues in The Black Sheep! Don’t miss the vibrant match between Barça vs Sevilla. We invite you to live every moment of this football battle in an atmosphere full of passion. Join us for an unforgettable experience!
URL:https://ovellanegramarina.com/en/evento/barca-x-sevilla-league/
LOCATION:Ovella Negra Marina\, Calle Zamora\, 78\, Barcelona\, Barcelona\, 08018\, Spain
CATEGORIES:Televised sporting events
ORGANIZER;CN="Grupo Oveja Negra":MAILTO:comunicacio@ovellanegra.com
END:VEVENT
BEGIN:VEVENT
DTSTART;TZID=Europe/Paris:20241002T210000
DTEND;TZID=Europe/Paris:20241002T230000
DTSTAMP:20260421T205855
CREATED:20240915T212215Z
LAST-MODIFIED:20240915T212215Z
UID:3984-1727902800-1727910000@ovellanegramarina.com
SUMMARY:LOSC x REAL MADRID (CHAMPIONS)
DESCRIPTION:We are waiting for you at Black Sheep to experience the excitement of the Champions League match between LOSC x REAL MADRID. Enjoy a unique experience\, full of football passion in our cozy venue.
URL:https://ovellanegramarina.com/en/evento/losc-x-real-madrid-champions/
LOCATION:Ovella Negra Marina\, Calle Zamora\, 78\, Barcelona\, Barcelona\, 08018\, Spain
CATEGORIES:Televised sporting events
ORGANIZER;CN="Grupo Oveja Negra":MAILTO:comunicacio@ovellanegra.com
END:VEVENT
BEGIN:VEVENT
DTSTART;TZID=Europe/Paris:20241001T210000
DTEND;TZID=Europe/Paris:20241001T230000
DTSTAMP:20260421T205855
CREATED:20240915T212001Z
LAST-MODIFIED:20240915T212001Z
UID:3981-1727816400-1727823600@ovellanegramarina.com
SUMMARY:BARÇA x BSC YOUNG BOYS (CHAMPIONS)
DESCRIPTION:We are waiting for you at Black Sheep to experience the excitement of the Champions League match between BARÇA x BSC YOUNG BOYS. Enjoy a unique experience\, full of football passion in our cozy venue.
URL:https://ovellanegramarina.com/en/evento/barca-x-bsc-young-boys-champions/
LOCATION:Ovella Negra Marina\, Calle Zamora\, 78\, Barcelona\, Barcelona\, 08018\, Spain
CATEGORIES:Televised sporting events
ORGANIZER;CN="Grupo Oveja Negra":MAILTO:comunicacio@ovellanegra.com
END:VEVENT
BEGIN:VEVENT
DTSTART;TZID=Europe/Paris:20240925T210000
DTEND;TZID=Europe/Paris:20240925T230000
DTSTAMP:20260421T205855
CREATED:20240915T212506Z
LAST-MODIFIED:20240915T212506Z
UID:3987-1727298000-1727305200@ovellanegramarina.com
SUMMARY:BARÇA x GETAFE (LEAGUE)
DESCRIPTION:The excitement of the League continues in The Black Sheep! Don’t miss the vibrant match between Barça vs Getafe. We invite you to live every moment of this football battle in an atmosphere full of passion. Join us for an unforgettable experience!
URL:https://ovellanegramarina.com/en/evento/barca-x-getafe-league/
LOCATION:Ovella Negra Marina\, Calle Zamora\, 78\, Barcelona\, Barcelona\, 08018\, Spain
CATEGORIES:Televised sporting events
ORGANIZER;CN="Grupo Oveja Negra":MAILTO:comunicacio@ovellanegra.com
END:VEVENT
BEGIN:VEVENT
DTSTART;TZID=Europe/Paris:20240925T210000
DTEND;TZID=Europe/Paris:20240925T230000
DTSTAMP:20260421T205855
CREATED:20240915T210842Z
LAST-MODIFIED:20240915T211303Z
UID:3972-1727298000-1727305200@ovellanegramarina.com
SUMMARY:REAL MADRID x STUTTGART (CHAMPIONS)
DESCRIPTION:We are waiting for you at Black Sheep to experience the excitement of the Champions League match between REAL MADRID x STUTTGART. Enjoy a unique experience\, full of football passion in our cozy venue.
URL:https://ovellanegramarina.com/en/evento/real-madrid-x-stuttgart-champions/
LOCATION:Ovella Negra Marina\, Calle Zamora\, 78\, Barcelona\, Barcelona\, 08018\, Spain
CATEGORIES:Televised sporting events
ORGANIZER;CN="Grupo Oveja Negra":MAILTO:comunicacio@ovellanegra.com
END:VEVENT
BEGIN:VEVENT
DTSTART;TZID=Europe/Paris:20240919T210000
DTEND;TZID=Europe/Paris:20240919T230000
DTSTAMP:20260421T205855
CREATED:20240915T211700Z
LAST-MODIFIED:20240915T211700Z
UID:3978-1726779600-1726786800@ovellanegramarina.com
SUMMARY:MONACO x BARÇA (CHAMPIONS)
DESCRIPTION:We are waiting for you at Black Sheep to experience the excitement of the Champions League match between MONACO x BARÇA. Enjoy a unique experience\, full of football passion in our cozy venue.
URL:https://ovellanegramarina.com/en/evento/monaco-x-barca-champions/
LOCATION:Ovella Negra Marina\, Calle Zamora\, 78\, Barcelona\, Barcelona\, 08018\, Spain
CATEGORIES:Televised sporting events
ORGANIZER;CN="Grupo Oveja Negra":MAILTO:comunicacio@ovellanegra.com
END:VEVENT
BEGIN:VEVENT
DTSTART;TZID=Europe/Paris:20240917T210000
DTEND;TZID=Europe/Paris:20240917T230000
DTSTAMP:20260421T205855
CREATED:20240915T211502Z
LAST-MODIFIED:20240915T211502Z
UID:3975-1726606800-1726614000@ovellanegramarina.com
SUMMARY:MILAN x LIVERPOOL (CHAMPIONS)
DESCRIPTION:We are waiting for you at Black Sheep to experience the excitement of the Champions League match between MILAN x LIVERPOOL. Enjoy a unique experience\, full of football passion in our cozy venue.
URL:https://ovellanegramarina.com/en/evento/milan-x-liverpool-champions/
LOCATION:Ovella Negra Marina\, Calle Zamora\, 78\, Barcelona\, Barcelona\, 08018\, Spain
CATEGORIES:Televised sporting events
ORGANIZER;CN="Two Market":MAILTO:hello@marketsbarcelona.com
END:VEVENT
BEGIN:VEVENT
DTSTART;TZID=Europe/Paris:20240824T190000
DTEND;TZID=Europe/Paris:20240824T210000
DTSTAMP:20260421T205855
CREATED:20240812T112411Z
LAST-MODIFIED:20240812T112411Z
UID:3929-1724526000-1724533200@ovellanegramarina.com
SUMMARY:BARCELONA x ATHLETIC (LEAGUE)
DESCRIPTION:The excitement of the League continues in The Black Sheep! Don’t miss the vibrant match between Barça vs Athletic. We invite you to live every moment of this football battle in an atmosphere full of passion. Join us for an unforgettable experience!
URL:https://ovellanegramarina.com/en/evento/barcelona-x-athletic-league/
LOCATION:Ovella Negra Marina\, Calle Zamora\, 78\, Barcelona\, Barcelona\, 08018\, Spain
CATEGORIES:Televised sporting events
END:VEVENT
BEGIN:VEVENT
DTSTART;TZID=Europe/Paris:20240817T213000
DTEND;TZID=Europe/Paris:20240817T233000
DTSTAMP:20260421T205855
CREATED:20240812T112229Z
LAST-MODIFIED:20240812T112229Z
UID:3926-1723930200-1723937400@ovellanegramarina.com
SUMMARY:VALENCIA x BARCELONA (LEAGUE)
DESCRIPTION:The excitement of the League continues in The Black Sheep! Don’t miss the vibrant match between Valencia vs Barça. We invite you to live every moment of this football battle in an atmosphere full of passion. Join us for an unforgettable experience!
URL:https://ovellanegramarina.com/en/evento/valencia-x-barcelona-league/
LOCATION:Ovella Negra Marina\, Calle Zamora\, 78\, Barcelona\, Barcelona\, 08018\, Spain
CATEGORIES:Televised sporting events
END:VEVENT
BEGIN:VEVENT
DTSTART;TZID=Europe/Paris:20240710T210000
DTEND;TZID=Europe/Paris:20240710T230000
DTSTAMP:20260421T205855
CREATED:20240708T194052Z
LAST-MODIFIED:20240708T194052Z
UID:3908-1720645200-1720652400@ovellanegramarina.com
SUMMARY:HOLLAND x ENGLAND (EUROCUP)
DESCRIPTION:The excitement of the Eurocup in The Black Sheep! Don’t miss the vibrant match between Holland and England. We invite you to live every moment of this football battle in an atmosphere full of passion. Join us for an unforgettable experience!
URL:https://ovellanegramarina.com/en/evento/holland-x-england-eurocup/
LOCATION:Ovella Negra Marina\, Calle Zamora\, 78\, Barcelona\, Barcelona\, 08018\, Spain
CATEGORIES:Televised sporting events
ORGANIZER;CN="Grupo Oveja Negra":MAILTO:comunicacio@ovellanegra.com
END:VEVENT
BEGIN:VEVENT
DTSTART;TZID=Europe/Paris:20240710T210000
DTEND;TZID=Europe/Paris:20240710T230000
DTSTAMP:20260421T205855
CREATED:20240708T193525Z
LAST-MODIFIED:20240708T193831Z
UID:3905-1720645200-1720652400@ovellanegramarina.com
SUMMARY:SPAIN x FRANCE
DESCRIPTION:The excitement of the Eurocup in The Black Sheep! Don’t miss the vibrant match between Spain x France. We invite you to live every moment of this football battle in an atmosphere full of passion. Join us for an unforgettable experience!
URL:https://ovellanegramarina.com/en/evento/spain-x-france/
LOCATION:Ovella Negra Marina\, Calle Zamora\, 78\, Barcelona\, Barcelona\, 08018\, Spain
CATEGORIES:Televised sporting events
ORGANIZER;CN="Grupo Oveja Negra":MAILTO:comunicacio@ovellanegra.com
END:VEVENT
BEGIN:VEVENT
DTSTART;TZID=Europe/Paris:20240702T210000
DTEND;TZID=Europe/Paris:20240702T230000
DTSTAMP:20260421T205855
CREATED:20240627T111333Z
LAST-MODIFIED:20240627T111333Z
UID:3835-1719954000-1719961200@ovellanegramarina.com
SUMMARY:AUSTRIA x TURKEY (EUROCUP)
DESCRIPTION:The excitement of the Eurocup in The Black Sheep! Don’t miss the vibrant match between Austria and Turkey. We invite you to live every moment of this football battle in an atmosphere full of passion. Join us for an unforgettable experience!
URL:https://ovellanegramarina.com/en/evento/austria-x-turkey-eurocup/
LOCATION:Ovella Negra Marina\, Calle Zamora\, 78\, Barcelona\, Barcelona\, 08018\, Spain
CATEGORIES:Televised sporting events
ORGANIZER;CN="Grupo Oveja Negra":MAILTO:comunicacio@ovellanegra.com
END:VEVENT
BEGIN:VEVENT
DTSTART;TZID=Europe/Paris:20240702T180000
DTEND;TZID=Europe/Paris:20240702T200000
DTSTAMP:20260421T205855
CREATED:20240627T111123Z
LAST-MODIFIED:20240627T111123Z
UID:3832-1719943200-1719950400@ovellanegramarina.com
SUMMARY:HOLLAND x ROMANIA (EUROCUP)
DESCRIPTION:The excitement of the Eurocup in The Black Sheep! Don’t miss the vibrant match between Holland and Romania. We invite you to live every moment of this football battle in an atmosphere full of passion. Join us for an unforgettable experience!
URL:https://ovellanegramarina.com/en/evento/holland-x-romania-eurocup/
LOCATION:Ovella Negra Marina\, Calle Zamora\, 78\, Barcelona\, Barcelona\, 08018\, Spain
CATEGORIES:Televised sporting events
ORGANIZER;CN="Grupo Oveja Negra":MAILTO:comunicacio@ovellanegra.com
END:VEVENT
BEGIN:VEVENT
DTSTART;TZID=Europe/Paris:20240701T210000
DTEND;TZID=Europe/Paris:20240701T230000
DTSTAMP:20260421T205855
CREATED:20240627T110941Z
LAST-MODIFIED:20240627T110941Z
UID:3829-1719867600-1719874800@ovellanegramarina.com
SUMMARY:PORTUGAL x SLOVENIA (EUROCUP)
DESCRIPTION:The excitement of the Eurocup in The Black Sheep! Don’t miss the vibrant match between Portugal and Slovenia. We invite you to live every moment of this football battle in an atmosphere full of passion. Join us for an unforgettable experience!
URL:https://ovellanegramarina.com/en/evento/portugal-x-slovenia-eurocup/
LOCATION:Ovella Negra Marina\, Calle Zamora\, 78\, Barcelona\, Barcelona\, 08018\, Spain
CATEGORIES:Televised sporting events
ORGANIZER;CN="Grupo Oveja Negra":MAILTO:comunicacio@ovellanegra.com
END:VEVENT
END:VCALENDAR