BEGIN:VCALENDAR
VERSION:2.0
PRODID:-//Ovella Negra Marina - ECPv6.15.20//NONSGML v1.0//EN
CALSCALE:GREGORIAN
METHOD:PUBLISH
X-WR-CALNAME:Ovella Negra Marina
X-ORIGINAL-URL:https://ovellanegramarina.com/en/
X-WR-CALDESC:Events for Ovella Negra Marina
REFRESH-INTERVAL;VALUE=DURATION:PT1H
X-Robots-Tag:noindex
X-PUBLISHED-TTL:PT1H
BEGIN:VTIMEZONE
TZID:Europe/Paris
BEGIN:DAYLIGHT
TZOFFSETFROM:+0100
TZOFFSETTO:+0200
TZNAME:CEST
DTSTART:20230326T010000
END:DAYLIGHT
BEGIN:STANDARD
TZOFFSETFROM:+0200
TZOFFSETTO:+0100
TZNAME:CET
DTSTART:20231029T010000
END:STANDARD
BEGIN:DAYLIGHT
TZOFFSETFROM:+0100
TZOFFSETTO:+0200
TZNAME:CEST
DTSTART:20240331T010000
END:DAYLIGHT
BEGIN:STANDARD
TZOFFSETFROM:+0200
TZOFFSETTO:+0100
TZNAME:CET
DTSTART:20241027T010000
END:STANDARD
BEGIN:DAYLIGHT
TZOFFSETFROM:+0100
TZOFFSETTO:+0200
TZNAME:CEST
DTSTART:20250330T010000
END:DAYLIGHT
BEGIN:STANDARD
TZOFFSETFROM:+0200
TZOFFSETTO:+0100
TZNAME:CET
DTSTART:20251026T010000
END:STANDARD
END:VTIMEZONE
BEGIN:VEVENT
DTSTART;TZID=Europe/Paris:20240625T180000
DTEND;TZID=Europe/Paris:20240625T200000
DTSTAMP:20260421T141005
CREATED:20240611T171911Z
LAST-MODIFIED:20240611T171911Z
UID:3598-1719338400-1719345600@ovellanegramarina.com
SUMMARY:FRANCE x POLAND (EUROCUP)
DESCRIPTION:The excitement of the Eurocup in The Black Sheep! Don’t miss the vibrant match between France and Poland. We invite you to live every moment of this football battle in an atmosphere full of passion. Join us for an unforgettable experience!
URL:https://ovellanegramarina.com/en/evento/france-x-poland-eurocup/
LOCATION:Ovella Negra Marina\, Calle Zamora\, 78\, Barcelona\, Barcelona\, 08018\, Spain
CATEGORIES:Televised sporting events
ORGANIZER;CN="Grupo Oveja Negra":MAILTO:comunicacio@ovellanegra.com
END:VEVENT
BEGIN:VEVENT
DTSTART;TZID=Europe/Paris:20240624T210000
DTEND;TZID=Europe/Paris:20240624T230000
DTSTAMP:20260421T141005
CREATED:20240611T170413Z
LAST-MODIFIED:20240617T120829Z
UID:3592-1719262800-1719270000@ovellanegramarina.com
SUMMARY:Albania x Spain (Eurocup)
DESCRIPTION:The excitement of the Eurocup in The Black Sheep! Don’t miss the vibrant match between Albania x Spain. We invite you to live every moment of this football battle in an atmosphere full of passion. Join us for an unforgettable experience!
URL:https://ovellanegramarina.com/en/evento/spain-x-albania-eurocup/
LOCATION:Ovella Negra Marina\, Calle Zamora\, 78\, Barcelona\, Barcelona\, 08018\, Spain
CATEGORIES:Televised sporting events
ORGANIZER;CN="Grupo Oveja Negra":MAILTO:comunicacio@ovellanegra.com
END:VEVENT
BEGIN:VEVENT
DTSTART;TZID=Europe/Paris:20240623T210000
DTEND;TZID=Europe/Paris:20240623T230000
DTSTAMP:20260421T141005
CREATED:20240611T170136Z
LAST-MODIFIED:20240611T170136Z
UID:3589-1719176400-1719183600@ovellanegramarina.com
SUMMARY:Switzerland x Germany (Eurocup)
DESCRIPTION:The excitement of the Eurocup in The Black Sheep! Don’t miss the vibrant match between Switzerland and Germany. We invite you to live every moment of this football battle in an atmosphere full of passion. Join us for an unforgettable experience!
URL:https://ovellanegramarina.com/en/evento/switzerland-x-germany-eurocup/
LOCATION:Ovella Negra Marina\, Calle Zamora\, 78\, Barcelona\, Barcelona\, 08018\, Spain
CATEGORIES:Televised sporting events
ORGANIZER;CN="Grupo Oveja Negra":MAILTO:comunicacio@ovellanegra.com
END:VEVENT
BEGIN:VEVENT
DTSTART;TZID=Europe/Paris:20240622T180000
DTEND;TZID=Europe/Paris:20240622T200000
DTSTAMP:20260421T141005
CREATED:20240611T165843Z
LAST-MODIFIED:20240611T165843Z
UID:3586-1719079200-1719086400@ovellanegramarina.com
SUMMARY:Turkey x Portugal (Eurocup)
DESCRIPTION:The excitement of the Eurocup in The Black Sheep! Don’t miss the vibrant match between Turkey and Portugal. We invite you to live every moment of this football battle in an atmosphere full of passion. Join us for an unforgettable experience!
URL:https://ovellanegramarina.com/en/evento/turkey-x-portugal-eurocup/
LOCATION:Ovella Negra Marina\, Calle Zamora\, 78\, Barcelona\, Barcelona\, 08018\, Spain
CATEGORIES:Televised sporting events
ORGANIZER;CN="Grupo Oveja Negra":MAILTO:comunicacio@ovellanegra.com
END:VEVENT
BEGIN:VEVENT
DTSTART;TZID=Europe/Paris:20240621T210000
DTEND;TZID=Europe/Paris:20240621T230000
DTSTAMP:20260421T141005
CREATED:20240611T165516Z
LAST-MODIFIED:20240617T120117Z
UID:3583-1719003600-1719010800@ovellanegramarina.com
SUMMARY:Netherlands x France (Eurocup)
DESCRIPTION:The excitement of the Eurocup in The Black Sheep! Don’t miss the vibrant match between Netherlands and France. We invite you to live every moment of this football battle in an atmosphere full of passion. Join us for an unforgettable experience!
URL:https://ovellanegramarina.com/en/evento/france-x-netherlands-eurocup/
LOCATION:Barcelona
CATEGORIES:Televised sporting events
END:VEVENT
BEGIN:VEVENT
DTSTART;TZID=Europe/Paris:20240620T210000
DTEND;TZID=Europe/Paris:20240620T230000
DTSTAMP:20260421T141005
CREATED:20240611T165146Z
LAST-MODIFIED:20240611T165146Z
UID:3580-1718917200-1718924400@ovellanegramarina.com
SUMMARY:Spain x Italy (Eurocup)
DESCRIPTION:The excitement of the Eurocup in The Black Sheep! Don’t miss the vibrant match between Spain and Italy. We invite you to live every moment of this football battle in an atmosphere full of passion. Join us for an unforgettable experience!
URL:https://ovellanegramarina.com/en/evento/spain-x-italy-eurocup/
LOCATION:Ovella Negra Marina\, Calle Zamora\, 78\, Barcelona\, Barcelona\, 08018\, Spain
CATEGORIES:Televised sporting events
ORGANIZER;CN="Grupo Oveja Negra":MAILTO:comunicacio@ovellanegra.com
END:VEVENT
BEGIN:VEVENT
DTSTART;TZID=Europe/Paris:20240620T180000
DTEND;TZID=Europe/Paris:20240620T200000
DTSTAMP:20260421T141005
CREATED:20240611T164706Z
LAST-MODIFIED:20240611T164706Z
UID:3577-1718906400-1718913600@ovellanegramarina.com
SUMMARY:Denmark x England (Eurocup)
DESCRIPTION:The excitement of the Eurocup in The Black Sheep! Don’t miss the vibrant match between Denmark and England. We invite you to live every moment of this football battle in an atmosphere full of passion. Join us for an unforgettable experience!
URL:https://ovellanegramarina.com/en/evento/denmark-x-england-eurocup/
LOCATION:Ovella Negra Marina\, Calle Zamora\, 78\, Barcelona\, Barcelona\, 08018\, Spain
CATEGORIES:Televised sporting events
ORGANIZER;CN="Grupo Oveja Negra":MAILTO:comunicacio@ovellanegra.com
END:VEVENT
BEGIN:VEVENT
DTSTART;TZID=Europe/Paris:20240619T180000
DTEND;TZID=Europe/Paris:20240619T200000
DTSTAMP:20260421T141005
CREATED:20240611T164420Z
LAST-MODIFIED:20240611T164420Z
UID:3574-1718820000-1718827200@ovellanegramarina.com
SUMMARY:Germany x Hungary (Eurocup)
DESCRIPTION:The excitement of the Eurocup in The Black Sheep! Don’t miss the vibrant match between Germany and Hungary. We invite you to live every moment of this football battle in an atmosphere full of passion. Join us for an unforgettable experience!
URL:https://ovellanegramarina.com/en/evento/germany-x-hungary-eurocup/
LOCATION:Ovella Negra Marina\, Calle Zamora\, 78\, Barcelona\, Barcelona\, 08018\, Spain
CATEGORIES:Televised sporting events
ORGANIZER;CN="Grupo Oveja Negra":MAILTO:comunicacio@ovellanegra.com
END:VEVENT
BEGIN:VEVENT
DTSTART;TZID=Europe/Paris:20240618T180000
DTEND;TZID=Europe/Paris:20240618T200000
DTSTAMP:20260421T141005
CREATED:20240611T164148Z
LAST-MODIFIED:20240611T164148Z
UID:3571-1718733600-1718740800@ovellanegramarina.com
SUMMARY:Portugal x Czequia (Eurocup)
DESCRIPTION:The excitement of the Eurocup in The Black Sheep! Don’t miss the vibrant match between Portugal and Czequia. We invite you to live every moment of this football battle in an atmosphere full of passion. Join us for an unforgettable experience!
URL:https://ovellanegramarina.com/en/evento/portugal-x-czequia-eurocup/
LOCATION:Ovella Negra Marina\, Calle Zamora\, 78\, Barcelona\, Barcelona\, 08018\, Spain
CATEGORIES:Televised sporting events
ORGANIZER;CN="Grupo Oveja Negra":MAILTO:comunicacio@ovellanegra.com
END:VEVENT
BEGIN:VEVENT
DTSTART;TZID=Europe/Paris:20240617T210000
DTEND;TZID=Europe/Paris:20240617T230000
DTSTAMP:20260421T141005
CREATED:20240611T163916Z
LAST-MODIFIED:20240611T163916Z
UID:3568-1718658000-1718665200@ovellanegramarina.com
SUMMARY:Austria x France (Eurocup)
DESCRIPTION:The excitement of the Eurocup in The Black Sheep! Don’t miss the vibrant match between Austria and France. We invite you to live every moment of this football battle in an atmosphere full of passion. Join us for an unforgettable experience!
URL:https://ovellanegramarina.com/en/evento/austria-x-france-eurocup/
LOCATION:Ovella Negra Marina\, Calle Zamora\, 78\, Barcelona\, Barcelona\, 08018\, Spain
CATEGORIES:Televised sporting events
ORGANIZER;CN="Grupo Oveja Negra":MAILTO:comunicacio@ovellanegra.com
END:VEVENT
BEGIN:VEVENT
DTSTART;TZID=Europe/Paris:20240616T210000
DTEND;TZID=Europe/Paris:20240616T230000
DTSTAMP:20260421T141005
CREATED:20240611T163506Z
LAST-MODIFIED:20240611T163506Z
UID:3565-1718571600-1718578800@ovellanegramarina.com
SUMMARY:Serbia x England (Eurocup)
DESCRIPTION:The excitement of the Eurocup in The Black Sheep! Don’t miss the vibrant match between Serbia and England. We invite you to live every moment of this football battle in an atmosphere full of passion. Join us for an unforgettable experience!
URL:https://ovellanegramarina.com/en/evento/serbia-x-england-eurocup/
LOCATION:Ovella Negra Marina\, Calle Zamora\, 78\, Barcelona\, Barcelona\, 08018\, Spain
CATEGORIES:Televised sporting events
ORGANIZER;CN="Grupo Oveja Negra":MAILTO:comunicacio@ovellanegra.com
END:VEVENT
BEGIN:VEVENT
DTSTART;TZID=Europe/Paris:20240615T210000
DTEND;TZID=Europe/Paris:20240615T230000
DTSTAMP:20260421T141005
CREATED:20240611T162047Z
LAST-MODIFIED:20240611T162047Z
UID:3561-1718485200-1718492400@ovellanegramarina.com
SUMMARY:Italy x Albania (Eurocup)
DESCRIPTION:The excitement of the Eurocup in The Black Sheep! Don’t miss the vibrant match between Italy and Albania. We invite you to live every moment of this football battle in an atmosphere full of passion. Join us for an unforgettable experience!
URL:https://ovellanegramarina.com/en/evento/italy-x-albania-eurocup/
LOCATION:Ovella Negra Marina\, Calle Zamora\, 78\, Barcelona\, Barcelona\, 08018\, Spain
CATEGORIES:Televised sporting events
ORGANIZER;CN="Grupo Oveja Negra":MAILTO:comunicacio@ovellanegra.com
END:VEVENT
BEGIN:VEVENT
DTSTART;TZID=Europe/Paris:20240615T180000
DTEND;TZID=Europe/Paris:20240615T200000
DTSTAMP:20260421T141006
CREATED:20240611T161744Z
LAST-MODIFIED:20240611T161744Z
UID:3558-1718474400-1718481600@ovellanegramarina.com
SUMMARY:Spain x Croatia (Eurocup)
DESCRIPTION:The excitement of the Eurocup in The Black Sheep! Don’t miss the vibrant match between Spain and Croatia. We invite you to live every moment of this football battle in an atmosphere full of passion. Join us for an unforgettable experience!
URL:https://ovellanegramarina.com/en/evento/spain-x-croatia-eurocup/
LOCATION:Ovella Negra Marina\, Calle Zamora\, 78\, Barcelona\, Barcelona\, 08018\, Spain
CATEGORIES:Televised sporting events
ORGANIZER;CN="Grupo Oveja Negra":MAILTO:comunicacio@ovellanegra.com
END:VEVENT
BEGIN:VEVENT
DTSTART;TZID=Europe/Paris:20240614T210000
DTEND;TZID=Europe/Paris:20240614T230000
DTSTAMP:20260421T141006
CREATED:20240611T155507Z
LAST-MODIFIED:20240611T161349Z
UID:3555-1718398800-1718406000@ovellanegramarina.com
SUMMARY:Germany x Scotland (Eurocup)
DESCRIPTION:The excitement of the Eurocup in The Black Sheep! Don’t miss the vibrant match between Germany and Scotland. We invite you to live every moment of this football battle in an atmosphere full of passion. Join us for an unforgettable experience!
URL:https://ovellanegramarina.com/en/evento/germany-x-scotland-eurocup/
LOCATION:Ovella Negra Marina\, Calle Zamora\, 78\, Barcelona\, Barcelona\, 08018\, Spain
CATEGORIES:Televised sporting events
ORGANIZER;CN="Grupo Oveja Negra":MAILTO:comunicacio@ovellanegra.com
END:VEVENT
BEGIN:VEVENT
DTSTART;TZID=Europe/Paris:20240601T210000
DTEND;TZID=Europe/Paris:20240601T230000
DTSTAMP:20260421T141006
CREATED:20240521T074716Z
LAST-MODIFIED:20240521T075322Z
UID:3431-1717275600-1717282800@ovellanegramarina.com
SUMMARY:REAL MADRID X DORTMUND (FINAL CHAMPIONS)
DESCRIPTION:We are waiting for you at Black Sheep to experience the excitement of the Champions League match between REAL MADRID x DORTMUND. Enjoy a unique experience\, full of football passion in our cozy venue.
URL:https://ovellanegramarina.com/en/evento/real-madrid-x-dortmund-final-champions/
LOCATION:Ovella Negra Marina\, Calle Zamora\, 78\, Barcelona\, Barcelona\, 08018\, Spain
CATEGORIES:Televised sporting events
ORGANIZER;CN="Grupo Oveja Negra":MAILTO:comunicacio@ovellanegra.com
END:VEVENT
BEGIN:VEVENT
DTSTART;TZID=Europe/Paris:20240525T180000
DTEND;TZID=Europe/Paris:20240525T200000
DTSTAMP:20260421T141006
CREATED:20240521T072344Z
LAST-MODIFIED:20240521T073600Z
UID:3402-1716660000-1716667200@ovellanegramarina.com
SUMMARY:BARÇA VS OLYMPIQUE LYON (WOMEN'S CHAMPIONS LEAGUE FINAL)
DESCRIPTION:We are waiting for you at Black Sheep to experience the excitement of the Wmone’s Champions League Final match between BARÇA x OLYMPIQUE LYON. Enjoy a unique experience\, full of football passion in our cozy venue.
URL:https://ovellanegramarina.com/en/evento/barca-vs-olympique-lyon-womens-champions-league-final/
LOCATION:Ovella Negra Marina\, Calle Zamora\, 78\, Barcelona\, Barcelona\, 08018\, Spain
CATEGORIES:Televised sporting events
ORGANIZER;CN="Grupo Oveja Negra":MAILTO:comunicacio@ovellanegra.com
END:VEVENT
BEGIN:VEVENT
DTSTART;TZID=Europe/Paris:20240522T210000
DTEND;TZID=Europe/Paris:20240522T230000
DTSTAMP:20260421T141006
CREATED:20240521T071226Z
LAST-MODIFIED:20240521T073511Z
UID:3398-1716411600-1716418800@ovellanegramarina.com
SUMMARY:ATALANTA VS LEVERKUSEN (EUROPE LEAGUE)
DESCRIPTION:The excitement of the Europe League in The Black Sheep! Don’t miss the vibrant match between Atalanta vs Leverkusen. We invite you to live every moment of this football battle in an atmosphere full of passion. Join us for an unforgettable experience!
URL:https://ovellanegramarina.com/en/evento/atalanta-vs-leverkusen-europe-league/
LOCATION:Ovella Negra Marina\, Calle Zamora\, 78\, Barcelona\, Barcelona\, 08018\, Spain
CATEGORIES:Televised sporting events
END:VEVENT
BEGIN:VEVENT
DTSTART;TZID=Europe/Paris:20240509T210000
DTEND;TZID=Europe/Paris:20240509T230000
DTSTAMP:20260421T141006
CREATED:20240426T111902Z
LAST-MODIFIED:20240426T111902Z
UID:3292-1715288400-1715295600@ovellanegramarina.com
SUMMARY:ATALANTA VS OLYMPIQUE DE MARSELLA
DESCRIPTION:The excitement of the UEFA in The Black Sheep! Don’t miss the vibrant match between Barça and Valencia. We invite you to live every moment of this football battle in an atmosphere full of passion. Join us for an unforgettable experience!
URL:https://ovellanegramarina.com/en/evento/atalanta-vs-olympique-de-marsella/
LOCATION:Ovella Negra Marina\, Calle Zamora\, 78\, Barcelona\, Barcelona\, 08018\, Spain
CATEGORIES:Televised sporting events
ORGANIZER;CN="Grupo Oveja Negra":MAILTO:comunicacio@ovellanegra.com
END:VEVENT
BEGIN:VEVENT
DTSTART;TZID=Europe/Paris:20240508T210000
DTEND;TZID=Europe/Paris:20240508T230000
DTSTAMP:20260421T141006
CREATED:20240425T130756Z
LAST-MODIFIED:20240507T105531Z
UID:3274-1715202000-1715209200@ovellanegramarina.com
SUMMARY:REAL MADRID VS BAYERN (CHAMPIONS)
DESCRIPTION:We are waiting for you at Black Sheep to experience the excitement of the Champions League match between REAL MADRID x BAYERN. Enjoy a unique experience\, full of football passion in our cozy venue.
URL:https://ovellanegramarina.com/en/evento/real-madrid-vs-bayern-champions/
LOCATION:Ovella Negra Marina\, Calle Zamora\, 78\, Barcelona\, Barcelona\, 08018\, Spain
CATEGORIES:Televised sporting events
ORGANIZER;CN="Grupo Oveja Negra":MAILTO:comunicacio@ovellanegra.com
END:VEVENT
BEGIN:VEVENT
DTSTART;TZID=Europe/Paris:20240507T210000
DTEND;TZID=Europe/Paris:20240507T230000
DTSTAMP:20260421T141006
CREATED:20240425T130607Z
LAST-MODIFIED:20240425T130607Z
UID:3269-1715115600-1715122800@ovellanegramarina.com
SUMMARY:PSG VS DORTMUND (CHAMPIONS)
DESCRIPTION:We are waiting for you at Black Sheep to experience the excitement of the Champions League match between PSG and DORTMUND. Enjoy a unique experience\, full of football passion in our cozy venue.
URL:https://ovellanegramarina.com/en/evento/psg-vs-dortmund-champions/
LOCATION:Ovella Negra Marina\, Calle Zamora\, 78\, Barcelona\, Barcelona\, 08018\, Spain
CATEGORIES:Televised sporting events
ORGANIZER;CN="Grupo Oveja Negra":MAILTO:comunicacio@ovellanegra.com
END:VEVENT
BEGIN:VEVENT
DTSTART;TZID=Europe/Paris:20240502T210000
DTEND;TZID=Europe/Paris:20240502T230000
DTSTAMP:20260421T141006
CREATED:20240426T111304Z
LAST-MODIFIED:20240426T111304Z
UID:3289-1714683600-1714690800@ovellanegramarina.com
SUMMARY:OLYMPIQUE DE MARSELLA VS ATALANTA
DESCRIPTION:The excitement of the UEFA in The Black Sheep! Don’t miss the vibrant match between Barça and Valencia. We invite you to live every moment of this football battle in an atmosphere full of passion. Join us for an unforgettable experience!
URL:https://ovellanegramarina.com/en/evento/olympique-de-marsella-vs-atalanta/
LOCATION:Ovella Negra Marina\, Calle Zamora\, 78\, Barcelona\, Barcelona\, 08018\, Spain
CATEGORIES:Televised sporting events
ORGANIZER;CN="Grupo Oveja Negra":MAILTO:comunicacio@ovellanegra.com
END:VEVENT
BEGIN:VEVENT
DTSTART;TZID=Europe/Paris:20240501T210000
DTEND;TZID=Europe/Paris:20240501T230000
DTSTAMP:20260421T141006
CREATED:20240425T130417Z
LAST-MODIFIED:20240425T130417Z
UID:3264-1714597200-1714604400@ovellanegramarina.com
SUMMARY:DORTMUND VS PSG (CHAMPIONS)
DESCRIPTION:We are waiting for you at Black Sheep to experience the excitement of the Champions League match between DORTMUND x PSG. Enjoy a unique experience\, full of football passion in our cozy venue.
URL:https://ovellanegramarina.com/en/evento/dortmund-vs-psg-champions/
LOCATION:Ovella Negra Marina\, Calle Zamora\, 78\, Barcelona\, Barcelona\, 08018\, Spain
CATEGORIES:Televised sporting events
ORGANIZER;CN="Grupo Oveja Negra":MAILTO:comunicacio@ovellanegra.com
END:VEVENT
BEGIN:VEVENT
DTSTART;TZID=Europe/Paris:20240430T210000
DTEND;TZID=Europe/Paris:20240430T230000
DTSTAMP:20260421T141006
CREATED:20240425T130259Z
LAST-MODIFIED:20240425T130259Z
UID:3261-1714510800-1714518000@ovellanegramarina.com
SUMMARY:BAYERN VS REAL MADRID (CHAMPIONS)
DESCRIPTION:We are waiting for you at Black Sheep to experience the excitement of the Champions League match between BAYERN vs REAL MADRID. Enjoy a unique experience\, full of football passion in our cozy venue.
URL:https://ovellanegramarina.com/en/evento/bayern-vs-real-madrid-champions/
LOCATION:Ovella Negra Marina\, Calle Zamora\, 78\, Barcelona\, Barcelona\, 08018\, Spain
CATEGORIES:Televised sporting events
ORGANIZER;CN="Grupo Oveja Negra":MAILTO:comunicacio@ovellanegra.com
END:VEVENT
BEGIN:VEVENT
DTSTART;TZID=Europe/Paris:20240429T210000
DTEND;TZID=Europe/Paris:20240429T230000
DTSTAMP:20260421T141006
CREATED:20240425T113947Z
LAST-MODIFIED:20240425T113947Z
UID:3257-1714424400-1714431600@ovellanegramarina.com
SUMMARY:BARCA VS VALENCIA (LEAGUE)
DESCRIPTION:The excitement of the League continues in The Black Sheep! Don’t miss the vibrant match between Barça and Valencia. We invite you to live every moment of this football battle in an atmosphere full of passion. Join us for an unforgettable experience!
URL:https://ovellanegramarina.com/en/evento/barca-vs-valencia-league/
LOCATION:Ovella Negra Marina\, Calle Zamora\, 78\, Barcelona\, Barcelona\, 08018\, Spain
CATEGORIES:Televised sporting events
ORGANIZER;CN="Grupo Oveja Negra":MAILTO:comunicacio@ovellanegra.com
END:VEVENT
BEGIN:VEVENT
DTSTART;TZID=Europe/Paris:20240421T210000
DTEND;TZID=Europe/Paris:20240421T230000
DTSTAMP:20260421T141006
CREATED:20240403T110050Z
LAST-MODIFIED:20240403T110050Z
UID:3206-1713733200-1713740400@ovellanegramarina.com
SUMMARY:R. MADRID VS BARÇA (LEAGUE)
DESCRIPTION:The excitement of the League continues in The Black Sheep! Don’t miss the vibrant match between R. Madrid and Barça. We invite you to live every moment of this football battle in an atmosphere full of passion. Join us for an unforgettable experience!
URL:https://ovellanegramarina.com/en/evento/r-madrid-vs-barca-league/
LOCATION:Ovella Negra Marina\, Calle Zamora\, 78\, Barcelona\, Barcelona\, 08018\, Spain
CATEGORIES:Televised sporting events
END:VEVENT
BEGIN:VEVENT
DTSTART;TZID=Europe/Paris:20240417T210000
DTEND;TZID=Europe/Paris:20240417T230000
DTSTAMP:20260421T141006
CREATED:20240403T105922Z
LAST-MODIFIED:20240403T105922Z
UID:3203-1713387600-1713394800@ovellanegramarina.com
SUMMARY:M. CITY VS R. MADRID (CHAMPIONS)
DESCRIPTION:We are waiting for you at Black Sheep to experience the excitement of the Champions League match between M. City and R. Madrid. Enjoy a unique experience\, full of football passion in our cozy venue.
URL:https://ovellanegramarina.com/en/evento/m-city-vs-r-madrid-champions/
LOCATION:Ovella Negra Marina\, Calle Zamora\, 78\, Barcelona\, Barcelona\, 08018\, Spain
CATEGORIES:Televised sporting events
END:VEVENT
BEGIN:VEVENT
DTSTART;TZID=Europe/Paris:20240416T210000
DTEND;TZID=Europe/Paris:20240416T230000
DTSTAMP:20260421T141006
CREATED:20240403T105752Z
LAST-MODIFIED:20240403T105752Z
UID:3200-1713301200-1713308400@ovellanegramarina.com
SUMMARY:BARÇA VS PSG (CHAMPIONS)
DESCRIPTION:We are waiting for you at Black Sheep to experience the excitement of the Champions League match between Barça and PSG. Enjoy a unique experience\, full of football passion in our cozy venue.
URL:https://ovellanegramarina.com/en/evento/barca-vs-psg-champions/
LOCATION:Ovella Negra Marina\, Calle Zamora\, 78\, Barcelona\, Barcelona\, 08018\, Spain
CATEGORIES:Televised sporting events
END:VEVENT
BEGIN:VEVENT
DTSTART;TZID=Europe/Paris:20240413T210000
DTEND;TZID=Europe/Paris:20240413T230000
DTSTAMP:20260421T141006
CREATED:20240402T101520Z
LAST-MODIFIED:20240402T101520Z
UID:3157-1713042000-1713049200@ovellanegramarina.com
SUMMARY:CADIZ VS BARÇA (LEAGUE)
DESCRIPTION:The excitement of the League continues in The Black Sheep! Don’t miss the vibrant match between Cadiz and Barça. We invite you to live every moment of this football battle in an atmosphere full of passion. Join us for an unforgettable experience!
URL:https://ovellanegramarina.com/en/evento/cadiz-vs-barca-league/
LOCATION:Ovella Negra Marina\, Calle Zamora\, 78\, Barcelona\, Barcelona\, 08018\, Spain
CATEGORIES:Televised sporting events
END:VEVENT
BEGIN:VEVENT
DTSTART;TZID=Europe/Paris:20240410T210000
DTEND;TZID=Europe/Paris:20240410T230000
DTSTAMP:20260421T141006
CREATED:20240330T090323Z
LAST-MODIFIED:20240330T090323Z
UID:3114-1712782800-1712790000@ovellanegramarina.com
SUMMARY:PSG VS BARÇA (CHAMPIONS)
DESCRIPTION:We are waiting for you at Black Sheep to experience the excitement of the Champions League match between PSG and BARÇA. Enjoy a unique experience\, full of football passion in our cozy venue.
URL:https://ovellanegramarina.com/en/evento/psg-vs-barca-champions/
LOCATION:Barcelona
CATEGORIES:Televised sporting events
ORGANIZER;CN="Grupo Oveja Negra":MAILTO:comunicacio@ovellanegra.com
END:VEVENT
BEGIN:VEVENT
DTSTART;TZID=Europe/Paris:20240409T200000
DTEND;TZID=Europe/Paris:20240409T220000
DTSTAMP:20260421T141006
CREATED:20240330T090101Z
LAST-MODIFIED:20240402T100723Z
UID:3111-1712692800-1712700000@ovellanegramarina.com
SUMMARY:REAL MADRID VS MANCHESTER CITY (CHAMPIONS)
DESCRIPTION:We are waiting for you at Black Sheep to experience the excitement of the Champions League match between Real Madrid and Manchester City. Enjoy a unique experience\, full of football passion in our cozy venue.
URL:https://ovellanegramarina.com/en/evento/real-madrid-vs-manchester-city-champions/
LOCATION:Ovella Negra Marina\, Calle Zamora\, 78\, Barcelona\, Barcelona\, 08018\, Spain
CATEGORIES:Televised sporting events
END:VEVENT
END:VCALENDAR