BEGIN:VCALENDAR
VERSION:2.0
PRODID:-//Ovella Negra Marina - ECPv6.15.20//NONSGML v1.0//EN
CALSCALE:GREGORIAN
METHOD:PUBLISH
X-ORIGINAL-URL:https://ovellanegramarina.com
X-WR-CALDESC:Eventos para Ovella Negra Marina
REFRESH-INTERVAL;VALUE=DURATION:PT1H
X-Robots-Tag:noindex
X-PUBLISHED-TTL:PT1H
BEGIN:VTIMEZONE
TZID:Europe/Paris
BEGIN:DAYLIGHT
TZOFFSETFROM:+0100
TZOFFSETTO:+0200
TZNAME:CEST
DTSTART:20250330T010000
END:DAYLIGHT
BEGIN:STANDARD
TZOFFSETFROM:+0200
TZOFFSETTO:+0100
TZNAME:CET
DTSTART:20251026T010000
END:STANDARD
BEGIN:DAYLIGHT
TZOFFSETFROM:+0100
TZOFFSETTO:+0200
TZNAME:CEST
DTSTART:20260329T010000
END:DAYLIGHT
BEGIN:STANDARD
TZOFFSETFROM:+0200
TZOFFSETTO:+0100
TZNAME:CET
DTSTART:20261025T010000
END:STANDARD
BEGIN:DAYLIGHT
TZOFFSETFROM:+0100
TZOFFSETTO:+0200
TZNAME:CEST
DTSTART:20270328T010000
END:DAYLIGHT
BEGIN:STANDARD
TZOFFSETFROM:+0200
TZOFFSETTO:+0100
TZNAME:CET
DTSTART:20271031T010000
END:STANDARD
END:VTIMEZONE
BEGIN:VEVENT
DTSTART;TZID=Europe/Paris:20260506T210000
DTEND;TZID=Europe/Paris:20260506T230000
DTSTAMP:20260421T124724
CREATED:20251009T093357Z
LAST-MODIFIED:20260420T220419Z
UID:5322-1778101200-1778108400@ovellanegramarina.com
SUMMARY:BAYERN VS PSG  (CHAMPIONS)
DESCRIPTION:¡La emoción de la Champions en la Oveja Negra! No te pierdas el vibrante partido entre BAYERN VS PSG. Te invitamos a vivir cada momento de esta batalla futbolística en un ambiente lleno de pasión. ¡Únete a nosotros para una experiencia inolvidable!
URL:https://ovellanegramarina.com/evento/real-madrid-x-juventus-champions/
CATEGORIES:Eventos televisados deportivos
END:VEVENT
END:VCALENDAR