BEGIN:VCALENDAR
VERSION:2.0
PRODID:-//Ovella Negra Marina - ECPv6.15.20//NONSGML v1.0//EN
CALSCALE:GREGORIAN
METHOD:PUBLISH
X-ORIGINAL-URL:https://ovellanegramarina.com
X-WR-CALDESC:Eventos para Ovella Negra Marina
REFRESH-INTERVAL;VALUE=DURATION:PT1H
X-Robots-Tag:noindex
X-PUBLISHED-TTL:PT1H
BEGIN:VTIMEZONE
TZID:Europe/Paris
BEGIN:DAYLIGHT
TZOFFSETFROM:+0100
TZOFFSETTO:+0200
TZNAME:CEST
DTSTART:20240331T010000
END:DAYLIGHT
BEGIN:STANDARD
TZOFFSETFROM:+0200
TZOFFSETTO:+0100
TZNAME:CET
DTSTART:20241027T010000
END:STANDARD
BEGIN:DAYLIGHT
TZOFFSETFROM:+0100
TZOFFSETTO:+0200
TZNAME:CEST
DTSTART:20250330T010000
END:DAYLIGHT
BEGIN:STANDARD
TZOFFSETFROM:+0200
TZOFFSETTO:+0100
TZNAME:CET
DTSTART:20251026T010000
END:STANDARD
BEGIN:DAYLIGHT
TZOFFSETFROM:+0100
TZOFFSETTO:+0200
TZNAME:CEST
DTSTART:20260329T010000
END:DAYLIGHT
BEGIN:STANDARD
TZOFFSETFROM:+0200
TZOFFSETTO:+0100
TZNAME:CET
DTSTART:20261025T010000
END:STANDARD
BEGIN:DAYLIGHT
TZOFFSETFROM:+0100
TZOFFSETTO:+0200
TZNAME:CEST
DTSTART:20270328T010000
END:DAYLIGHT
BEGIN:STANDARD
TZOFFSETFROM:+0200
TZOFFSETTO:+0100
TZNAME:CET
DTSTART:20271031T010000
END:STANDARD
END:VTIMEZONE
BEGIN:VEVENT
DTSTART;TZID=Europe/Paris:20250308T210000
DTEND;TZID=Europe/Paris:20250308T230000
DTSTAMP:20260421T183441
CREATED:20250224T135755Z
LAST-MODIFIED:20250224T135755Z
UID:4629-1741467600-1741474800@ovellanegramarina.com
SUMMARY:BARÇA VS OSASUNA (LIGA)
DESCRIPTION:¡La emoción de la Liga en la Oveja Negra! No te pierdas el vibrante partido entre Barça vs Osasuna. Te invitamos a vivir cada momento de esta batalla futbolística en un ambiente lleno de pasión. ¡Únete a nosotros para una experiencia inolvidable!
URL:https://ovellanegramarina.com/evento/barca-vs-osasuna-liga/
LOCATION:Ovella Negra Marina\, Calle Zamora\, 78\, Barcelona\, Barcelona\, 08018\, Spain
CATEGORIES:Eventos televisados deportivos
END:VEVENT
BEGIN:VEVENT
DTSTART;TZID=Europe/Paris:20250311T184500
DTEND;TZID=Europe/Paris:20250311T204500
DTSTAMP:20260421T183441
CREATED:20250227T102451Z
LAST-MODIFIED:20250227T102451Z
UID:4663-1741718700-1741725900@ovellanegramarina.com
SUMMARY:BARÇA VS BENFICA (CHAMPIONS)
DESCRIPTION:¡La emoción de la Champions en la Oveja Negra! No te pierdas el vibrante partido entre Barça vs Benfica. Te invitamos a vivir cada momento de esta batalla futbolística en un ambiente lleno de pasión. ¡Únete a nosotros para una experiencia inolvidable!
URL:https://ovellanegramarina.com/evento/barca-vs-benfica-champions/
LOCATION:Ovella Negra Marina\, Calle Zamora\, 78\, Barcelona\, Barcelona\, 08018\, Spain
CATEGORIES:Eventos televisados deportivos
END:VEVENT
BEGIN:VEVENT
DTSTART;TZID=Europe/Paris:20250311T210000
DTEND;TZID=Europe/Paris:20250311T230000
DTSTAMP:20260421T183441
CREATED:20250227T102813Z
LAST-MODIFIED:20250227T102813Z
UID:4672-1741726800-1741734000@ovellanegramarina.com
SUMMARY:LIVERPOOL VS PSG (CHAMPIONS)
DESCRIPTION:¡La emoción de la Champions en la Oveja Negra! No te pierdas el vibrante partido entre Liverpool vs PSG. Te invitamos a vivir cada momento de esta batalla futbolística en un ambiente lleno de pasión. ¡Únete a nosotros para una experiencia inolvidable!
URL:https://ovellanegramarina.com/evento/liverpool-vs-psg-champions/
LOCATION:Ovella Negra Marina\, Calle Zamora\, 78\, Barcelona\, Barcelona\, 08018\, Spain
CATEGORIES:Eventos televisados deportivos
END:VEVENT
BEGIN:VEVENT
DTSTART;TZID=Europe/Paris:20250312T210000
DTEND;TZID=Europe/Paris:20250312T230000
DTSTAMP:20260421T183441
CREATED:20250227T102705Z
LAST-MODIFIED:20250227T102705Z
UID:4669-1741813200-1741820400@ovellanegramarina.com
SUMMARY:ATLÉTICO MADRID VS REAL MADRID (CHAMPIONS)
DESCRIPTION:¡La emoción de la Champions en la Oveja Negra! No te pierdas el vibrante partido entre Atlético de Madrid vs Real Madrid. Te invitamos a vivir cada momento de esta batalla futbolística en un ambiente lleno de pasión. ¡Únete a nosotros para una experiencia inolvidable!
URL:https://ovellanegramarina.com/evento/atletico-madrid-vs-real-madrid-champions/
LOCATION:Ovella Negra Marina\, Calle Zamora\, 78\, Barcelona\, Barcelona\, 08018\, Spain
CATEGORIES:Eventos televisados deportivos
END:VEVENT
BEGIN:VEVENT
DTSTART;TZID=Europe/Paris:20250316T210000
DTEND;TZID=Europe/Paris:20250316T230000
DTSTAMP:20260421T183441
CREATED:20250314T125241Z
LAST-MODIFIED:20250314T125241Z
UID:4722-1742158800-1742166000@ovellanegramarina.com
SUMMARY:ATLÉTICO DE MADRID VS BARÇA (LIGA)
DESCRIPTION:¡La emoción de la Liga en la Oveja Negra! No te pierdas el vibrante partido entre Atlético de Madrid vs Barça. Te invitamos a vivir cada momento de esta batalla futbolística en un ambiente lleno de pasión. ¡Únete a nosotros para una experiencia inolvidable!
URL:https://ovellanegramarina.com/evento/atletico-de-madrid-vs-barca-liga/
LOCATION:Ovella Negra Marina\, Calle Zamora\, 78\, Barcelona\, Barcelona\, 08018\, Spain
CATEGORIES:Eventos televisados deportivos
END:VEVENT
BEGIN:VEVENT
DTSTART;TZID=Europe/Paris:20250327T210000
DTEND;TZID=Europe/Paris:20250327T230000
DTSTAMP:20260421T183441
CREATED:20250324T113411Z
LAST-MODIFIED:20250324T113411Z
UID:4815-1743109200-1743116400@ovellanegramarina.com
SUMMARY:BARÇA VS OSASUNA (LIGA)
DESCRIPTION:¡La emoción de la Liga en la Oveja Negra! No te pierdas el vibrante partido entre Barça vs Osasuna. Te invitamos a vivir cada momento de esta batalla futbolística en un ambiente lleno de pasión. ¡Únete a nosotros para una experiencia inolvidable!
URL:https://ovellanegramarina.com/evento/barca-vs-osasuna-liga-2/
LOCATION:Ovella Negra Marina\, Calle Zamora\, 78\, Barcelona\, Barcelona\, 08018\, Spain
CATEGORIES:Eventos televisados deportivos
END:VEVENT
BEGIN:VEVENT
DTSTART;TZID=Europe/Paris:20250402T210000
DTEND;TZID=Europe/Paris:20250402T230000
DTSTAMP:20260421T183441
CREATED:20250319T143634Z
LAST-MODIFIED:20250319T143634Z
UID:4733-1743627600-1743634800@ovellanegramarina.com
SUMMARY:ATLÉTICO DE MADRID VS BARÇA (LIGA)
DESCRIPTION:¡La emoción de la Liga en la Oveja Negra! No te pierdas el vibrante partido entre Atlético de Madrid vs Barça. Te invitamos a vivir cada momento de esta batalla futbolística en un ambiente lleno de pasión. ¡Únete a nosotros para una experiencia inolvidable!
URL:https://ovellanegramarina.com/evento/atletico-de-madrid-vs-barca-liga-2/
LOCATION:Ovella Negra Marina\, Calle Zamora\, 78\, Barcelona\, Barcelona\, 08018\, Spain
CATEGORIES:Eventos televisados deportivos
END:VEVENT
BEGIN:VEVENT
DTSTART;TZID=Europe/Paris:20250405T210000
DTEND;TZID=Europe/Paris:20250405T230000
DTSTAMP:20260421T183441
CREATED:20250319T143726Z
LAST-MODIFIED:20250319T143726Z
UID:4737-1743886800-1743894000@ovellanegramarina.com
SUMMARY:BARÇA VS BETIS (LIGA)
DESCRIPTION:¡La emoción de la Liga en la Oveja Negra! No te pierdas el vibrante partido entre Barça vs Betis. Te invitamos a vivir cada momento de esta batalla futbolística en un ambiente lleno de pasión. ¡Únete a nosotros para una experiencia inolvidable!
URL:https://ovellanegramarina.com/evento/barca-vs-betis-liga/
LOCATION:Ovella Negra Marina\, Calle Zamora\, 78\, Barcelona\, Barcelona\, 08018\, Spain
CATEGORIES:Eventos televisados deportivos
END:VEVENT
BEGIN:VEVENT
DTSTART;TZID=Europe/Paris:20250408T210000
DTEND;TZID=Europe/Paris:20250408T230000
DTSTAMP:20260421T183441
CREATED:20250319T143853Z
LAST-MODIFIED:20250319T143853Z
UID:4740-1744146000-1744153200@ovellanegramarina.com
SUMMARY:ARSENAL VS REAL MADRID (CHAMPIONS)
DESCRIPTION:¡La emoción de la Champions en la Oveja Negra! No te pierdas el vibrante partido entre Arsenal vs Real Madrid. Te invitamos a vivir cada momento de esta batalla futbolística en un ambiente lleno de pasión. ¡Únete a nosotros para una experiencia inolvidable!
URL:https://ovellanegramarina.com/evento/arsenal-vs-real-madrid-champions/
LOCATION:Ovella Negra Marina\, Calle Zamora\, 78\, Barcelona\, Barcelona\, 08018\, Spain
CATEGORIES:Eventos televisados deportivos
END:VEVENT
BEGIN:VEVENT
DTSTART;TZID=Europe/Paris:20250409T210000
DTEND;TZID=Europe/Paris:20250409T230000
DTSTAMP:20260421T183441
CREATED:20250319T143953Z
LAST-MODIFIED:20250319T143953Z
UID:4743-1744232400-1744239600@ovellanegramarina.com
SUMMARY:BARÇA VS DORTMUND (CHAMPIONS)
DESCRIPTION:¡La emoción de la Champions en la Oveja Negra! No te pierdas el vibrante partido entre Barça vs Dormund. Te invitamos a vivir cada momento de esta batalla futbolística en un ambiente lleno de pasión. ¡Únete a nosotros para una experiencia inolvidable!
URL:https://ovellanegramarina.com/evento/barca-vs-dortmund-champions/
LOCATION:Ovella Negra Marina\, Calle Zamora\, 78\, Barcelona\, Barcelona\, 08018\, Spain
CATEGORIES:Eventos televisados deportivos
END:VEVENT
BEGIN:VEVENT
DTSTART;TZID=Europe/Paris:20250412T210000
DTEND;TZID=Europe/Paris:20250412T230000
DTSTAMP:20260421T183441
CREATED:20250324T113502Z
LAST-MODIFIED:20250324T113502Z
UID:4818-1744491600-1744498800@ovellanegramarina.com
SUMMARY:LEGANES VS BARÇA (LIGA)
DESCRIPTION:¡La emoción de la Liga en la Oveja Negra! No te pierdas el vibrante partido entre Leganes vs Barça. Te invitamos a vivir cada momento de esta batalla futbolística en un ambiente lleno de pasión. ¡Únete a nosotros para una experiencia inolvidable!
URL:https://ovellanegramarina.com/evento/leganes-vs-barca-liga/
LOCATION:Ovella Negra Marina\, Calle Zamora\, 78\, Barcelona\, Barcelona\, 08018\, Spain
CATEGORIES:Eventos televisados deportivos
END:VEVENT
BEGIN:VEVENT
DTSTART;TZID=Europe/Paris:20250415T210000
DTEND;TZID=Europe/Paris:20250415T230000
DTSTAMP:20260421T183441
CREATED:20250319T144058Z
LAST-MODIFIED:20250319T144058Z
UID:4746-1744750800-1744758000@ovellanegramarina.com
SUMMARY:DORTMUND VS BARÇA (CHAMPIONS)
DESCRIPTION:¡La emoción de la Champions en la Oveja Negra! No te pierdas el vibrante partido entre Barça vs Dormund. Te invitamos a vivir cada momento de esta batalla futbolística en un ambiente lleno de pasión. ¡Únete a nosotros para una experiencia inolvidable!
URL:https://ovellanegramarina.com/evento/dortmund-vs-barca-champions/
LOCATION:Ovella Negra Marina\, Calle Zamora\, 78\, Barcelona\, Barcelona\, 08018\, Spain
CATEGORIES:Eventos televisados deportivos
END:VEVENT
BEGIN:VEVENT
DTSTART;TZID=Europe/Paris:20250416T210000
DTEND;TZID=Europe/Paris:20250416T230000
DTSTAMP:20260421T183441
CREATED:20250319T144218Z
LAST-MODIFIED:20250319T144218Z
UID:4749-1744837200-1744844400@ovellanegramarina.com
SUMMARY:MADRID VS ARSENAL (CHAMPIONS)
DESCRIPTION:¡La emoción de la Champions en la Oveja Negra! No te pierdas el vibrante partido entre Madrid vs Arsenal. Te invitamos a vivir cada momento de esta batalla futbolística en un ambiente lleno de pasión. ¡Únete a nosotros para una experiencia inolvidable!
URL:https://ovellanegramarina.com/evento/madrid-vs-arsenal-champions/
LOCATION:Ovella Negra Marina\, Calle Zamora\, 78\, Barcelona\, Barcelona\, 08018\, Spain
CATEGORIES:Eventos televisados deportivos
END:VEVENT
BEGIN:VEVENT
DTSTART;TZID=Europe/Paris:20250422T213000
DTEND;TZID=Europe/Paris:20250422T233000
DTSTAMP:20260421T183441
CREATED:20250410T104006Z
LAST-MODIFIED:20250410T104006Z
UID:4834-1745357400-1745364600@ovellanegramarina.com
SUMMARY:BARÇA VS MALLORCA (LIGA)
DESCRIPTION:¡La emoción de la Liga en la Oveja Negra! No te pierdas el vibrante partido entre Barça vs Mallorca. Te invitamos a vivir cada momento de esta batalla futbolística en un ambiente lleno de pasión. ¡Únete a nosotros para una experiencia inolvidable!
URL:https://ovellanegramarina.com/evento/barca-vs-mallorca-liga/
LOCATION:Ovella Negra Marina\, Calle Zamora\, 78\, Barcelona\, Barcelona\, 08018\, Spain
CATEGORIES:Eventos televisados deportivos
END:VEVENT
BEGIN:VEVENT
DTSTART;TZID=Europe/Paris:20250429T210000
DTEND;TZID=Europe/Paris:20250429T230000
DTSTAMP:20260421T183441
CREATED:20250422T125836Z
LAST-MODIFIED:20250422T125836Z
UID:4848-1745960400-1745967600@ovellanegramarina.com
SUMMARY:ARSENAL VS PSG (CHAMPIONS)
DESCRIPTION:¡La emoción de la Champions en la Oveja Negra! No te pierdas el vibrante partido entre Arsenal vs PSG. Te invitamos a vivir cada momento de esta batalla futbolística en un ambiente lleno de pasión. ¡Únete a nosotros para una experiencia inolvidable!
URL:https://ovellanegramarina.com/evento/arsenal-vs-psg-champions/
LOCATION:Ovella Negra Marina\, Calle Zamora\, 78\, Barcelona\, Barcelona\, 08018\, Spain
CATEGORIES:Eventos televisados deportivos
END:VEVENT
BEGIN:VEVENT
DTSTART;TZID=Europe/Paris:20250511T161500
DTEND;TZID=Europe/Paris:20250511T181500
DTSTAMP:20260421T183441
CREATED:20250428T101622Z
LAST-MODIFIED:20250428T101622Z
UID:4876-1746980100-1746987300@ovellanegramarina.com
SUMMARY:BARÇA VS REAL MADRID (LIGA)
DESCRIPTION:¡La emoción de la Liga en la Oveja Negra! No te pierdas el vibrante partido entre Barça vs Real Madrid. Te invitamos a vivir cada momento de esta batalla futbolística en un ambiente lleno de pasión. ¡Únete a nosotros para una experiencia inolvidable!
URL:https://ovellanegramarina.com/evento/barca-vs-real-madrid-liga-2/
LOCATION:Ovella Negra Marina\, Calle Zamora\, 78\, Barcelona\, Barcelona\, 08018\, Spain
CATEGORIES:Eventos televisados deportivos
END:VEVENT
BEGIN:VEVENT
DTSTART;TZID=Europe/Paris:20250524T180000
DTEND;TZID=Europe/Paris:20250524T200000
DTSTAMP:20260421T183441
CREATED:20250522T114114Z
LAST-MODIFIED:20250522T114114Z
UID:4938-1748109600-1748116800@ovellanegramarina.com
SUMMARY:ARSENAL WOMEN VS BARÇA (FINAL CHAMPIONS FEMENINA)
DESCRIPTION:¡La emoción de la Champions en la Oveja Negra! No te pierdas el vibrante partido entre Arsenal Women vs Barça. Te invitamos a vivir cada momento de esta batalla futbolística en un ambiente lleno de pasión. ¡Únete a nosotros para una experiencia inolvidable!
URL:https://ovellanegramarina.com/evento/arsenal-women-vs-barca-final-champions-femenina/
LOCATION:Ovella Negra Marina\, Calle Zamora\, 78\, Barcelona\, Barcelona\, 08018\, Spain
CATEGORIES:Eventos televisados deportivos
END:VEVENT
BEGIN:VEVENT
DTSTART;TZID=Europe/Paris:20250713T210000
DTEND;TZID=Europe/Paris:20250713T233000
DTSTAMP:20260421T183441
CREATED:20250711T183237Z
LAST-MODIFIED:20250711T183415Z
UID:5003-1752440400-1752449400@ovellanegramarina.com
SUMMARY:CHELSEA X PSG - FINAL MUNDIAL DE CLUBES
DESCRIPTION:¡La emoción del fútbol en la Oveja Negra! No te pierdas el vibrante partido entre Chelsea vs PSG. Te invitamos a vivir cada momento de esta batalla futbolística en un ambiente lleno de pasión. ¡Únete a nosotros para una experiencia inolvidable!
URL:https://ovellanegramarina.com/evento/chelsea-x-psg-final-mundial-de-clubes/
LOCATION:Ovella Negra Marina\, Calle Zamora\, 78\, Barcelona\, Barcelona\, 08018\, Spain
CATEGORIES:Eventos televisados deportivos
END:VEVENT
BEGIN:VEVENT
DTSTART;TZID=Europe/Paris:20250914T210000
DTEND;TZID=Europe/Paris:20250914T230000
DTSTAMP:20260421T183441
CREATED:20250808T084435Z
LAST-MODIFIED:20250901T091308Z
UID:5047-1757883600-1757890800@ovellanegramarina.com
SUMMARY:BARCELONA vs VALENCIA (LA LIGA)
DESCRIPTION:¡La emoción de la Liga en la Oveja Negra! No te pierdas el vibrante partido entre Barça X Valencia. Te invitamos a vivir cada momento de esta batalla futbolística en un ambiente lleno de pasión. ¡Únete a nosotros para una experiencia inolvidable!
URL:https://ovellanegramarina.com/evento/rayo-vallecano-vs-barcelona-la-liga/
LOCATION:Ovella Negra Marina\, Calle Zamora\, 78\, Barcelona\, Barcelona\, 08018\, Spain
CATEGORIES:Eventos televisados deportivos
ORGANIZER;CN="Grupo Oveja Negra":MAILTO:comunicacio@ovellanegra.com
END:VEVENT
BEGIN:VEVENT
DTSTART;TZID=Europe/Paris:20251002T223000
DTEND;TZID=Europe/Paris:20251003T013000
DTSTAMP:20260421T183441
CREATED:20250728T121301Z
LAST-MODIFIED:20250926T110521Z
UID:5034-1759444200-1759455000@ovellanegramarina.com
SUMMARY:KARAOKE OVELLA NEGRA
DESCRIPTION:¡Ven al karaoke de La Ovella Negra! Canta\, ríe y disfruta con amigos en el mejor ambiente. \n¡Te esperamos para vivir la noche con el mejor ritmo!
URL:https://ovellanegramarina.com/evento/karaoke-ovella-negra/
LOCATION:Ovella Negra Marina\, Calle Zamora\, 78\, Barcelona\, Barcelona\, 08018\, Spain
CATEGORIES:Concursos,Karaoke
ORGANIZER;CN="Grupo Oveja Negra":MAILTO:comunicacio@ovellanegra.com
END:VEVENT
BEGIN:VEVENT
DTSTART;TZID=Europe/Paris:20251021T184500
DTEND;TZID=Europe/Paris:20251021T204500
DTSTAMP:20260421T183441
CREATED:20250428T101335Z
LAST-MODIFIED:20251007T110211Z
UID:4872-1761072300-1761079500@ovellanegramarina.com
SUMMARY:BARÇA x OLIMPIAKOS (CHAMPIONS)
DESCRIPTION:¡La emoción de la Champions en la Oveja Negra! No te pierdas el vibrante partido entre Barça vs Olimpiakos. Te invitamos a vivir cada momento de esta batalla futbolística en un ambiente lleno de pasión. ¡Únete a nosotros para una experiencia inolvidable!
URL:https://ovellanegramarina.com/evento/inter-milan-vs-barca-champions/
LOCATION:Ovella Negra Marina\, Calle Zamora\, 78\, Barcelona\, Barcelona\, 08018\, Spain
CATEGORIES:Eventos televisados deportivos
END:VEVENT
BEGIN:VEVENT
DTSTART;TZID=Europe/Paris:20251030T223000
DTEND;TZID=Europe/Paris:20251031T013000
DTSTAMP:20260421T183441
CREATED:20250926T111530Z
LAST-MODIFIED:20250926T111530Z
UID:5270-1761863400-1761874200@ovellanegramarina.com
SUMMARY:KARAOKE OVELLA NEGRA
DESCRIPTION:¡Ven al karaoke de La Ovella Negra! Canta\, ríe y disfruta con amigos en el mejor ambiente. \n¡Te esperamos para vivir la noche con el mejor ritmo!
URL:https://ovellanegramarina.com/evento/karaoke-ovella-negra-5/
LOCATION:Ovella Negra Marina\, Calle Zamora\, 78\, Barcelona\, Barcelona\, 08018\, Spain
CATEGORIES:Karaoke
END:VEVENT
BEGIN:VEVENT
DTSTART;TZID=Europe/Paris:20251231T170000
DTEND;TZID=Europe/Paris:20260114T023000
DTSTAMP:20260421T183441
CREATED:20251231T134231Z
LAST-MODIFIED:20251231T141123Z
UID:5619-1767200400-1768357800@ovellanegramarina.com
SUMMARY:HORARIO FIESTAS OVELLA NEGRA MARINA
DESCRIPTION:MIERCOLES 24/12     DE  23\,30H   A  03\,00H \nJUEVES 25/12             DE  20\,00H   A  03\,00H \nVIERNES 26/12           DE  20\,00H   A  03\,00H \nMIERCOLES 31/12     DE  00\,30H   A  04\,30H \nJUEVES 01/01             DE  20\,00H   A  02\,30H \nMARTES 06/01           DE  20\,00H   A  02\,30H
URL:https://ovellanegramarina.com/evento/horario-ovella-negra-marina/
CATEGORIES:Eventos televisados deportivos
END:VEVENT
BEGIN:VEVENT
DTSTART;TZID=Europe/Paris:20260111T200000
DTEND;TZID=Europe/Paris:20260111T220000
DTSTAMP:20260421T183441
CREATED:20241231T111528Z
LAST-MODIFIED:20260109T072031Z
UID:4328-1768161600-1768168800@ovellanegramarina.com
SUMMARY:BARÇA VS REAL MADRID (FINAL SUPERCOPA)
DESCRIPTION:¡La emoción de la SuperCopa en la Oveja Negra! No te pierdas el vibrante partido entre Barça x Real Madeid. Te invitamos a vivir cada momento de esta batalla futbolística en un ambiente lleno de pasión. ¡Únete a nosotros para una experiencia inolvidable!
URL:https://ovellanegramarina.com/evento/athletic-bilbao-vs-barca-supercopa/
LOCATION:Ovella Negra Marina\, Calle Zamora\, 78\, Barcelona\, Barcelona\, 08018\, Spain
CATEGORIES:Eventos televisados deportivos
ORGANIZER;CN="Grupo Oveja Negra":MAILTO:comunicacio@ovellanegra.com
END:VEVENT
BEGIN:VEVENT
DTSTART;TZID=Europe/Paris:20260118T120000
DTEND;TZID=Europe/Paris:20260118T200000
DTSTAMP:20260421T183441
CREATED:20260114T095245Z
LAST-MODIFIED:20260114T095245Z
UID:5750-1768737600-1768766400@ovellanegramarina.com
SUMMARY:GOLDEN CHAIR INTERNATIONAL
DESCRIPTION:Golden Chair International regresa a Barcelona para conmemorar una década apostando por los mejores barberos del mundo\, en una jornada donde la competición\, la formación\, la música y el networking se unen en un ambiente de celebración única.
URL:https://ovellanegramarina.com/evento/golden-chair-international/
CATEGORIES:Concursos,Eventos especiales
END:VEVENT
BEGIN:VEVENT
DTSTART;TZID=Europe/Paris:20260208T190000
DTEND;TZID=Europe/Paris:20260209T060000
DTSTAMP:20260421T183441
CREATED:20260119T102806Z
LAST-MODIFIED:20260119T103945Z
UID:5770-1770577200-1770616800@ovellanegramarina.com
SUMMARY:SUPER BOWL LX
DESCRIPTION:¡Ven a disfrutar de la final de la Super Bowl LX en la Ovella Negra!
URL:https://ovellanegramarina.com/evento/final-super-bowl-lx/
CATEGORIES:Eventos televisados deportivos
END:VEVENT
BEGIN:VEVENT
DTSTART;TZID=Europe/Paris:20260212T210000
DTEND;TZID=Europe/Paris:20260212T230000
DTSTAMP:20260421T183441
CREATED:20260209T112919Z
LAST-MODIFIED:20260209T112919Z
UID:4602-1770930000-1770937200@ovellanegramarina.com
SUMMARY:ATLÉTICO MADRID VS BARÇA (COPA DEL REY)
DESCRIPTION:¡La emoción de la Copa del Rei en la Oveja Negra! No te pierdas el vibrante partido entre Atletico de Madrid vs Barça. Te invitamos a vivir cada momento de esta batalla futbolística en un ambiente lleno de pasión. ¡Únete a nosotros para una experiencia inolvidable!
URL:https://ovellanegramarina.com/evento/atletico-madrid-vs-barca-copa-del-rey/
CATEGORIES:Eventos televisados deportivos
END:VEVENT
BEGIN:VEVENT
DTSTART;TZID=Europe/Paris:20260303T210000
DTEND;TZID=Europe/Paris:20260303T230000
DTSTAMP:20260421T183441
CREATED:20250422T125653Z
LAST-MODIFIED:20260209T114311Z
UID:4845-1772571600-1772578800@ovellanegramarina.com
SUMMARY:BARÇA VS ATLÉTICO MADRID (COPA DEL REY)
DESCRIPTION:¡La emoción de la Copa del Rey en la Oveja Negra! No te pierdas el vibrante partido entre  BARÇA VS ATLÉTICO MADRID. Te invitamos a vivir cada momento de esta batalla futbolística en un ambiente lleno de pasión. ¡Únete a nosotros para una experiencia inolvidable!
URL:https://ovellanegramarina.com/evento/real-madrid-vs-barca-final-copa-del-rey/
LOCATION:Ovella Negra Marina\, Calle Zamora\, 78\, Barcelona\, Barcelona\, 08018\, Spain
CATEGORIES:Eventos televisados deportivos
END:VEVENT
BEGIN:VEVENT
DTSTART;TZID=Europe/Paris:20260326T223000
DTEND;TZID=Europe/Paris:20260327T013000
DTSTAMP:20260421T183441
CREATED:20251202T104113Z
LAST-MODIFIED:20260220T085910Z
UID:5504-1774564200-1774575000@ovellanegramarina.com
SUMMARY:KARAOKE OVELLA NEGRA
DESCRIPTION:¡Ven al karaoke de La Ovella Negra! Canta\, ríe y disfruta con amigos en el mejor ambiente. \n¡Te esperamos para vivir la noche con el mejor ritmo!
URL:https://ovellanegramarina.com/evento/karaoke-ovella-negra-8/
LOCATION:Ovella Negra Marina\, Calle Zamora\, 78\, Barcelona\, Barcelona\, 08018\, Spain
CATEGORIES:Karaoke
ORGANIZER;CN="Grupo Oveja Negra":MAILTO:comunicacio@ovellanegra.com
END:VEVENT
BEGIN:VEVENT
DTSTART;TZID=Europe/Paris:20260409T223000
DTEND;TZID=Europe/Paris:20260410T013000
DTSTAMP:20260421T183441
CREATED:20251202T104219Z
LAST-MODIFIED:20260322T195004Z
UID:5507-1775773800-1775784600@ovellanegramarina.com
SUMMARY:KARAOKE OVELLA NEGRA
DESCRIPTION:¡Ven al karaoke de La Ovella Negra! Canta\, ríe y disfruta con amigos en el mejor ambiente. \n¡Te esperamos para vivir la noche con el mejor ritmo!
URL:https://ovellanegramarina.com/evento/karaoke-ovella-negra-9/
LOCATION:Ovella Negra Marina\, Calle Zamora\, 78\, Barcelona\, Barcelona\, 08018\, Spain
CATEGORIES:Karaoke
ORGANIZER;CN="Grupo Oveja Negra":MAILTO:comunicacio@ovellanegra.com
END:VEVENT
END:VCALENDAR